FILENAME: O4811057.NWS.1078239.tif
QUADRANGLE_NAME: DORNER SCHOOL
QUADRANT: NW
WEST_LONGITUDE: -111 0 0.00000
EAST_LONGITUDE: -110 56 15.00000
NORTH_LATITUDE: 48 7 30.00000
SOUTH_LATITUDE: 48 3 45.00000
PRODUCTION_DATE: 2000 5 9
RASTER_ORDER: LEFT_RIGHT/TOP_BOTTOM
BAND_ORGANIZATION: SINGLE FILE
BAND_CONTENT: BLACK&WHITE
BAND_CONTENT: UNDEFINED
BAND_CONTENT: UNDEFINED
BITS_PER_PIXEL: 8
SAMPLES_AND_LINES: 5319 7555
HORIZONTAL_DATUM: NAD83
HORIZONTAL_COORDINATE_SYSTEM: UTM
COORDINATE_ZONE: 12
HORIZONTAL_UNITS: METERS
HORIZONTAL_RESOLUTION: 1.00000
SECONDARY_HORIZONTAL_DATUM: NAD27
XY_ORIGIN: 499639.00000 5330496.00000
SECONDARY_XY_ORIGIN: 499698.11000 5330279.93400
NATION: US
NATION: "SCIENCE
STATE: MT
NW_QUAD_CORNER_XY: 500000.00000 5330193.60700
NE_QUAD_CORNER_XY: 504650.94500 5330195.49600
SE_QUAD_CORNERY_XY: 504656.58500 5323248.76700
SW_QUAD_CORNER_XY: 500000.00000 5323246.87700
SECONDARY_NW_QUAD_XY: 500000.00000 5329974.69800
SECONDARY_NE_QUAD_XY: 504651.09200 5329976.58700
SECONDARY_SE_QUAD_XY: 504656.73200 5323029.87200
SECONDARY_SW_QUAD_XY: 500000.00000 5323027.98200
RMSE_XY: 0.80000
IMAGE_SOURCE: BLACK AND WHITE FILM
SOURCE_IMAGE_ID: NAPP 9168 097
SOURCE_IMAGE_DATE: 1996 08 26
SOURCE_DEM_DATE: 1969 00 00
AGENCY: WESTERN MAPPING CENTER (WMC)
PRODUCER: UNDEFINED
PRODUCTION_SYSTEM: GIS/MAGIC
COMPRESSION: UNDEFINED
STANDARD_VERSION: 1996 12
METADATA_DATE: 2000 06 02
DATA_FILE_SIZE: 40190364
BYTE_COUNT: 5319
