FILENAME: O4811056.NES.1080047.tif
QUADRANGLE_NAME: BIG SANDY
QUADRANT: NE
WEST_LONGITUDE: -110 3 45.00000
EAST_LONGITUDE: -110 0 0.00000
NORTH_LATITUDE: 48 15 0.00000
SOUTH_LATITUDE: 48 11 15.00000
PRODUCTION_DATE: 2000 5 10
RASTER_ORDER: LEFT_RIGHT/TOP_BOTTOM
BAND_ORGANIZATION: SINGLE FILE
BAND_CONTENT: BLACK&WHITE
BAND_CONTENT: UNDEFINED
BAND_CONTENT: UNDEFINED
BITS_PER_PIXEL: 8
SAMPLES_AND_LINES: 5390 7611
HORIZONTAL_DATUM: NAD83
HORIZONTAL_COORDINATE_SYSTEM: UTM
COORDINATE_ZONE: 12
HORIZONTAL_UNITS: METERS
HORIZONTAL_RESOLUTION: 1.00000
SECONDARY_HORIZONTAL_DATUM: NAD27
XY_ORIGIN: 569236.00000 5344871.00000
SECONDARY_XY_ORIGIN: 569294.87500 5344654.65100
NATION: US
NATION: "SCIENCE
STATE: MT
NW_QUAD_CORNER_XY: 569594.39200 5344512.09200
NE_QUAD_CORNER_XY: 574233.96700 5344570.62200
SE_QUAD_CORNERY_XY: 574324.38800 5337623.85900
SW_QUAD_CORNER_XY: 569679.16000 5337565.31400
SECONDARY_NW_QUAD_XY: 569596.59400 5344293.17200
SECONDARY_NE_QUAD_XY: 574236.31600 5344351.70400
SECONDARY_SE_QUAD_XY: 574326.73600 5337404.95200
SECONDARY_SW_QUAD_XY: 569681.36200 5337346.40600
RMSE_XY: 0.80000
IMAGE_SOURCE: BLACK AND WHITE FILM
SOURCE_IMAGE_ID: NAPP 9178 210
SOURCE_IMAGE_DATE: 1997 09 04
SOURCE_IMAGE_ID: NAPP 9178 209
SOURCE_IMAGE_DATE: 1997 09 04
SOURCE_IMAGE_ID: NAPP 9178 211
SOURCE_IMAGE_DATE: 1997 09 04
SOURCE_IMAGE_ID: NAPP 9158 024
SOURCE_IMAGE_DATE: 1997 09 04
SOURCE_DEM_DATE: 1968 00 00
AGENCY: WESTERN MAPPING CENTER (WMC)
PRODUCER: UNDEFINED
PRODUCTION_SYSTEM: GIS/MAGIC
COMPRESSION: UNDEFINED
STANDARD_VERSION: 1996 12
METADATA_DATE: 2000 06 12
DATA_FILE_SIZE: 41028680
BYTE_COUNT: 5390
