FILENAME: O4811056.SWS.1080050.tif
QUADRANGLE_NAME: BIG SANDY
QUADRANT: SW
WEST_LONGITUDE: -110 7 30.00000
EAST_LONGITUDE: -110 3 45.00000
NORTH_LATITUDE: 48 11 15.00000
SOUTH_LATITUDE: 48 7 30.00000
PRODUCTION_DATE: 2000 5 10
RASTER_ORDER: LEFT_RIGHT/TOP_BOTTOM
BAND_ORGANIZATION: SINGLE FILE
BAND_CONTENT: BLACK&WHITE
BAND_CONTENT: UNDEFINED
BAND_CONTENT: UNDEFINED
BITS_PER_PIXEL: 8
SAMPLES_AND_LINES: 5389 7608
HORIZONTAL_DATUM: NAD83
HORIZONTAL_COORDINATE_SYSTEM: UTM
COORDINATE_ZONE: 12
HORIZONTAL_UNITS: METERS
HORIZONTAL_RESOLUTION: 1.00000
SECONDARY_HORIZONTAL_DATUM: NAD27
XY_ORIGIN: 564676.00000 5337866.00000
SECONDARY_XY_ORIGIN: 564734.80200 5337649.90700
NATION: US
NATION: "SCIENCE
STATE: MT
NW_QUAD_CORNER_XY: 565033.92400 5337510.54700
NE_QUAD_CORNER_XY: 569679.16000 5337565.31400
SE_QUAD_CORNERY_XY: 569763.84500 5330618.61000
SW_QUAD_CORNER_XY: 565112.96200 5330563.83000
SECONDARY_NW_QUAD_XY: 565035.97900 5337291.63700
SECONDARY_NE_QUAD_XY: 569681.36200 5337346.40600
SECONDARY_SE_QUAD_XY: 569766.04600 5330399.71500
SECONDARY_SW_QUAD_XY: 565115.01600 5330344.93300
RMSE_XY: 1.30000
IMAGE_SOURCE: BLACK AND WHITE FILM
SOURCE_IMAGE_ID: NAPP 9178 265
SOURCE_IMAGE_DATE: 1997 09 04
SOURCE_IMAGE_ID: NAPP 9178 266
SOURCE_IMAGE_DATE: 1997 09 04
SOURCE_IMAGE_ID: NAPP 9178 264
SOURCE_IMAGE_DATE: 1997 09 04
SOURCE_DEM_DATE: 1968 00 00
AGENCY: WESTERN MAPPING CENTER (WMC)
PRODUCER: UNDEFINED
PRODUCTION_SYSTEM: GIS/MAGIC
COMPRESSION: UNDEFINED
STANDARD_VERSION: 1996 12
METADATA_DATE: 2000 06 12
DATA_FILE_SIZE: 41004901
BYTE_COUNT: 5389
