FILENAME: O4811055.SES.1080037.tif
QUADRANGLE_NAME: IHMSEN WELL
QUADRANT: SE
WEST_LONGITUDE: -110 11 15.00000
EAST_LONGITUDE: -110 7 30.00000
NORTH_LATITUDE: 48 11 15.00000
SOUTH_LATITUDE: 48 7 30.00000
PRODUCTION_DATE: 2000 5 9
RASTER_ORDER: LEFT_RIGHT/TOP_BOTTOM
BAND_ORGANIZATION: SINGLE FILE
BAND_CONTENT: BLACK&WHITE
BAND_CONTENT: UNDEFINED
BAND_CONTENT: UNDEFINED
BITS_PER_PIXEL: 8
SAMPLES_AND_LINES: 5384 7604
HORIZONTAL_DATUM: NAD83
HORIZONTAL_COORDINATE_SYSTEM: UTM
COORDINATE_ZONE: 12
HORIZONTAL_UNITS: METERS
HORIZONTAL_RESOLUTION: 1.00000
SECONDARY_HORIZONTAL_DATUM: NAD27
XY_ORIGIN: 560030.00000 5337811.00000
SECONDARY_XY_ORIGIN: 560088.75600 5337594.96100
NATION: US
NATION: "SCIENCE
STATE: MT
NW_QUAD_CORNER_XY: 560388.67900 5337459.55800
NE_QUAD_CORNER_XY: 565033.92400 5337510.54700
SE_QUAD_CORNERY_XY: 565112.96200 5330563.83000
SW_QUAD_CORNER_XY: 560462.07100 5330512.82800
SECONDARY_NW_QUAD_XY: 560390.58700 5337240.64600
SECONDARY_NE_QUAD_XY: 565035.97900 5337291.63700
SECONDARY_SE_QUAD_XY: 565115.01600 5330344.93300
SECONDARY_SW_QUAD_XY: 560463.97900 5330293.93000
RMSE_XY: 1.10000
IMAGE_SOURCE: BLACK AND WHITE FILM
SOURCE_IMAGE_ID: NAPP 9179 042
SOURCE_IMAGE_DATE: 1997 09 04
SOURCE_DEM_DATE: 1968 00 00
AGENCY: WESTERN MAPPING CENTER (WMC)
PRODUCER: UNDEFINED
PRODUCTION_SYSTEM: GIS/MAGIC
COMPRESSION: UNDEFINED
STANDARD_VERSION: 1996 12
METADATA_DATE: 2000 06 12
DATA_FILE_SIZE: 40945320
BYTE_COUNT: 5384
