FILENAME: O4811055.SWS.1080038.tif
QUADRANGLE_NAME: IHMSEN WELL
QUADRANT: SW
WEST_LONGITUDE: -110 15 0.00000
EAST_LONGITUDE: -110 11 15.00000
NORTH_LATITUDE: 48 11 15.00000
SOUTH_LATITUDE: 48 7 30.00000
PRODUCTION_DATE: 2000 5 9
RASTER_ORDER: LEFT_RIGHT/TOP_BOTTOM
BAND_ORGANIZATION: SINGLE FILE
BAND_CONTENT: BLACK&WHITE
BAND_CONTENT: UNDEFINED
BAND_CONTENT: UNDEFINED
BITS_PER_PIXEL: 8
SAMPLES_AND_LINES: 5379 7600
HORIZONTAL_DATUM: NAD83
HORIZONTAL_COORDINATE_SYSTEM: UTM
COORDINATE_ZONE: 12
HORIZONTAL_UNITS: METERS
HORIZONTAL_RESOLUTION: 1.00000
SECONDARY_HORIZONTAL_DATUM: NAD27
XY_ORIGIN: 555385.00000 5337760.00000
SECONDARY_XY_ORIGIN: 555443.71000 5337544.01400
NATION: US
NATION: "SCIENCE
STATE: MT
NW_QUAD_CORNER_XY: 555743.42700 5337412.34600
NE_QUAD_CORNER_XY: 560388.67900 5337459.55800
SE_QUAD_CORNERY_XY: 560462.07100 5330512.82800
SW_QUAD_CORNER_XY: 555811.17200 5330465.60500
SECONDARY_NW_QUAD_XY: 555745.18800 5337193.43300
SECONDARY_NE_QUAD_XY: 560390.58700 5337240.64600
SECONDARY_SE_QUAD_XY: 560463.97900 5330293.93000
SECONDARY_SW_QUAD_XY: 555812.93300 5330246.70500
RMSE_XY: 0.80000
IMAGE_SOURCE: BLACK AND WHITE FILM
SOURCE_IMAGE_ID: NAPP 9177 038
SOURCE_IMAGE_DATE: 1997 09 04
SOURCE_IMAGE_ID: NAPP 9177 037
SOURCE_IMAGE_DATE: 1997 09 04
SOURCE_DEM_DATE: 1968 00 00
AGENCY: WESTERN MAPPING CENTER (WMC)
PRODUCER: UNDEFINED
PRODUCTION_SYSTEM: GIS/MAGIC
COMPRESSION: UNDEFINED
STANDARD_VERSION: 1996 12
METADATA_DATE: 2000 06 12
DATA_FILE_SIZE: 40885779
BYTE_COUNT: 5379
