FILENAME: O4811053.NES.1079999.tif
QUADRANGLE_NAME: KENILWORTH
QUADRANT: NE
WEST_LONGITUDE: -110 26 15.00000
EAST_LONGITUDE: -110 22 30.00000
NORTH_LATITUDE: 48 15 0.00000
SOUTH_LATITUDE: 48 11 15.00000
PRODUCTION_DATE: 2000 5 9
RASTER_ORDER: LEFT_RIGHT/TOP_BOTTOM
BAND_ORGANIZATION: SINGLE FILE
BAND_CONTENT: BLACK&WHITE
BAND_CONTENT: UNDEFINED
BAND_CONTENT: UNDEFINED
BITS_PER_PIXEL: 8
SAMPLES_AND_LINES: 5356 7589
HORIZONTAL_DATUM: NAD83
HORIZONTAL_COORDINATE_SYSTEM: UTM
COORDINATE_ZONE: 12
HORIZONTAL_UNITS: METERS
HORIZONTAL_RESOLUTION: 1.00000
SECONDARY_HORIZONTAL_DATUM: NAD27
XY_ORIGIN: 541398.00000 5344577.00000
SECONDARY_XY_ORIGIN: 541456.71500 5344360.77500
NATION: US
NATION: "SCIENCE
STATE: MT
NW_QUAD_CORNER_XY: 541756.76900 5344240.21700
NE_QUAD_CORNER_XY: 546396.39000 5344276.08900
SE_QUAD_CORNERY_XY: 546452.90000 5337329.25300
SW_QUAD_CORNER_XY: 541807.62700 5337293.37300
SECONDARY_NW_QUAD_XY: 541758.09000 5344021.28900
SECONDARY_NE_QUAD_XY: 546397.85800 5344057.16100
SECONDARY_SE_QUAD_XY: 546454.36700 5337110.33800
SECONDARY_SW_QUAD_XY: 541808.94800 5337074.45600
RMSE_XY: 0.70000
IMAGE_SOURCE: BLACK AND WHITE FILM
SOURCE_IMAGE_ID: NAPP 9177 178
SOURCE_IMAGE_DATE: 1997 09 04
SOURCE_IMAGE_ID: NAPP 9177 177
SOURCE_IMAGE_DATE: 1997 09 04
SOURCE_DEM_DATE: 1968 00 00
AGENCY: WESTERN MAPPING CENTER (WMC)
PRODUCER: UNDEFINED
PRODUCTION_SYSTEM: GIS/MAGIC
COMPRESSION: UNDEFINED
STANDARD_VERSION: 1996 12
METADATA_DATE: 2000 06 12
DATA_FILE_SIZE: 40652040
BYTE_COUNT: 5356
