FILENAME: O4811053.SES.1080001.tif
QUADRANGLE_NAME: KENILWORTH
QUADRANT: SE
WEST_LONGITUDE: -110 26 15.00000
EAST_LONGITUDE: -110 22 30.00000
NORTH_LATITUDE: 48 11 15.00000
SOUTH_LATITUDE: 48 7 30.00000
PRODUCTION_DATE: 2000 5 9
RASTER_ORDER: LEFT_RIGHT/TOP_BOTTOM
BAND_ORGANIZATION: SINGLE FILE
BAND_CONTENT: BLACK&WHITE
BAND_CONTENT: UNDEFINED
BAND_CONTENT: UNDEFINED
BITS_PER_PIXEL: 8
SAMPLES_AND_LINES: 5362 7589
HORIZONTAL_DATUM: NAD83
HORIZONTAL_COORDINATE_SYSTEM: UTM
COORDINATE_ZONE: 12
HORIZONTAL_UNITS: METERS
HORIZONTAL_RESOLUTION: 1.00000
SECONDARY_HORIZONTAL_DATUM: NAD27
XY_ORIGIN: 541449.00000 5337630.00000
SECONDARY_XY_ORIGIN: 541507.67800 5337413.98200
NATION: US
NATION: "SCIENCE
STATE: MT
NW_QUAD_CORNER_XY: 541807.62700 5337293.37300
NE_QUAD_CORNER_XY: 546452.90000 5337329.25300
SE_QUAD_CORNERY_XY: 546509.35400 5330382.49300
SW_QUAD_CORNER_XY: 541858.43500 5330346.60400
SECONDARY_NW_QUAD_XY: 541808.94800 5337074.45600
SECONDARY_NE_QUAD_XY: 546454.36700 5337110.33800
SECONDARY_SE_QUAD_XY: 546510.82100 5330163.59000
SECONDARY_SW_QUAD_XY: 541859.75600 5330127.70000
RMSE_XY: 0.80000
IMAGE_SOURCE: BLACK AND WHITE FILM
SOURCE_IMAGE_ID: NAPP 9177 176
SOURCE_IMAGE_DATE: 1997 09 04
SOURCE_IMAGE_ID: NAPP 9177 238
SOURCE_IMAGE_DATE: 1997 09 04
SOURCE_IMAGE_ID: NAPP 9177 175
SOURCE_IMAGE_DATE: 1997 09 04
SOURCE_DEM_DATE: 1968 00 00
AGENCY: WESTERN MAPPING CENTER (WMC)
PRODUCER: UNDEFINED
PRODUCTION_SYSTEM: GIS/MAGIC
COMPRESSION: UNDEFINED
STANDARD_VERSION: 1996 12
METADATA_DATE: 2000 06 12
DATA_FILE_SIZE: 40697580
BYTE_COUNT: 5362
