FILENAME: O4811052.NWS.1080856.tif
QUADRANGLE_NAME: DISCOVERY BUTTE
QUADRANT: NW
WEST_LONGITUDE: -110 37 30.00000
EAST_LONGITUDE: -110 33 45.00000
NORTH_LATITUDE: 48 15 0.00000
SOUTH_LATITUDE: 48 11 15.00000
PRODUCTION_DATE: 2000 6 9
RASTER_ORDER: LEFT_RIGHT/TOP_BOTTOM
BAND_ORGANIZATION: SINGLE FILE
BAND_CONTENT: BLACK&WHITE
BAND_CONTENT: UNDEFINED
BAND_CONTENT: UNDEFINED
BITS_PER_PIXEL: 8
SAMPLES_AND_LINES: 5341 7577
HORIZONTAL_DATUM: NAD83
HORIZONTAL_COORDINATE_SYSTEM: UTM
COORDINATE_ZONE: 12
HORIZONTAL_UNITS: METERS
HORIZONTAL_RESOLUTION: 1.00000
SECONDARY_HORIZONTAL_DATUM: NAD27
XY_ORIGIN: 527478.00000 5344480.00000
SECONDARY_XY_ORIGIN: 527536.78400 5344263.69100
NATION: US
NATION: "SCIENCE
STATE: MT
NW_QUAD_CORNER_XY: 527837.87400 5344155.25900
NE_QUAD_CORNER_XY: 532477.51000 5344179.80200
SE_QUAD_CORNERY_XY: 532517.06600 5337232.94300
SW_QUAD_CORNER_XY: 527871.77900 5337208.39400
SECONDARY_NW_QUAD_XY: 527838.75400 5343936.32800
SECONDARY_NE_QUAD_XY: 532478.53700 5343960.87200
SECONDARY_SE_QUAD_XY: 532518.09300 5337014.02500
SECONDARY_SW_QUAD_XY: 527872.65900 5336989.47500
RMSE_XY: 2.60000
IMAGE_SOURCE: BLACK AND WHITE FILM
SOURCE_IMAGE_ID: NAPP 9167 092
SOURCE_IMAGE_DATE: 1996 08 26
SOURCE_IMAGE_ID: NAPP 9167 188
SOURCE_IMAGE_DATE: 1996 08 26
SOURCE_IMAGE_ID: NAPP 9167 144
SOURCE_IMAGE_DATE: 1996 08 26
SOURCE_IMAGE_ID: NAPP 9167 142
SOURCE_IMAGE_DATE: 1996 08 26
SOURCE_IMAGE_ID: NAPP 9167 141
SOURCE_IMAGE_DATE: 1996 08 26
SOURCE_DEM_DATE: 1992 00 00
AGENCY: WESTERN MAPPING CENTER (WMC)
PRODUCER: UNDEFINED
PRODUCTION_SYSTEM: GIS/MAGIC
COMPRESSION: UNDEFINED
STANDARD_VERSION: 1996 12
METADATA_DATE: 2000 06 13
DATA_FILE_SIZE: 40474098
BYTE_COUNT: 5341
