FILENAME: O4811052.SES.1080857.tif
QUADRANGLE_NAME: DISCOVERY BUTTE
QUADRANT: SE
WEST_LONGITUDE: -110 33 45.00000
EAST_LONGITUDE: -110 30 0.00000
NORTH_LATITUDE: 48 11 15.00000
SOUTH_LATITUDE: 48 7 30.00000
PRODUCTION_DATE: 2000 6 9
RASTER_ORDER: LEFT_RIGHT/TOP_BOTTOM
BAND_ORGANIZATION: SINGLE FILE
BAND_CONTENT: BLACK&WHITE
BAND_CONTENT: UNDEFINED
BAND_CONTENT: UNDEFINED
BITS_PER_PIXEL: 8
SAMPLES_AND_LINES: 5351 7581
HORIZONTAL_DATUM: NAD83
HORIZONTAL_COORDINATE_SYSTEM: UTM
COORDINATE_ZONE: 12
HORIZONTAL_UNITS: METERS
HORIZONTAL_RESOLUTION: 1.00000
SECONDARY_HORIZONTAL_DATUM: NAD27
XY_ORIGIN: 532158.00000 5337562.00000
SECONDARY_XY_ORIGIN: 532216.69000 5337345.95600
NATION: US
NATION: "SCIENCE
STATE: MT
NW_QUAD_CORNER_XY: 532517.06600 5337232.94300
NE_QUAD_CORNER_XY: 537162.34900 5337261.27000
SE_QUAD_CORNERY_XY: 537207.51200 5330314.49300
SW_QUAD_CORNER_XY: 532556.58300 5330286.16000
SECONDARY_NW_QUAD_XY: 532518.09300 5337014.02500
SECONDARY_NE_QUAD_XY: 537163.52300 5337042.35200
SECONDARY_SE_QUAD_XY: 537208.68600 5330095.58800
SECONDARY_SW_QUAD_XY: 532557.61000 5330067.25400
RMSE_XY: 4.60000
IMAGE_SOURCE: BLACK AND WHITE FILM
SOURCE_IMAGE_ID: NAPP 9177 238
SOURCE_IMAGE_DATE: 1997 09 04
SOURCE_IMAGE_ID: NAPP 9167 145
SOURCE_IMAGE_DATE: 1996 08 26
SOURCE_IMAGE_ID: NAPP 9167 144
SOURCE_IMAGE_DATE: 1996 08 26
SOURCE_IMAGE_ID: NAPP 9167 089
SOURCE_IMAGE_DATE: 1996 08 26
SOURCE_IMAGE_ID: NAPP 9167 090
SOURCE_IMAGE_DATE: 1996 08 26
SOURCE_DEM_DATE: 1992 00 00
AGENCY: WESTERN MAPPING CENTER (WMC)
PRODUCER: UNDEFINED
PRODUCTION_SYSTEM: GIS/MAGIC
COMPRESSION: UNDEFINED
STANDARD_VERSION: 1996 12
METADATA_DATE: 2000 06 13
DATA_FILE_SIZE: 40571282
BYTE_COUNT: 5351
