FILENAME: O4811052.SWS.1080858.tif
QUADRANGLE_NAME: DISCOVERY BUTTE
QUADRANT: SW
WEST_LONGITUDE: -110 37 30.00000
EAST_LONGITUDE: -110 33 45.00000
NORTH_LATITUDE: 48 11 15.00000
SOUTH_LATITUDE: 48 7 30.00000
PRODUCTION_DATE: 2000 6 7
RASTER_ORDER: LEFT_RIGHT/TOP_BOTTOM
BAND_ORGANIZATION: SINGLE FILE
BAND_CONTENT: BLACK&WHITE
BAND_CONTENT: UNDEFINED
BAND_CONTENT: UNDEFINED
BITS_PER_PIXEL: 8
SAMPLES_AND_LINES: 5346 7577
HORIZONTAL_DATUM: NAD83
HORIZONTAL_COORDINATE_SYSTEM: UTM
COORDINATE_ZONE: 12
HORIZONTAL_UNITS: METERS
HORIZONTAL_RESOLUTION: 1.00000
SECONDARY_HORIZONTAL_DATUM: NAD27
XY_ORIGIN: 527512.00000 5337533.00000
SECONDARY_XY_ORIGIN: 527570.71400 5337316.93500
NATION: US
NATION: "SCIENCE
STATE: MT
NW_QUAD_CORNER_XY: 527871.77900 5337208.39400
NE_QUAD_CORNER_XY: 532517.06600 5337232.94300
SE_QUAD_CORNERY_XY: 532556.58300 5330286.16000
SW_QUAD_CORNER_XY: 527905.65000 5330261.60500
SECONDARY_NW_QUAD_XY: 527872.65900 5336989.47500
SECONDARY_NE_QUAD_XY: 532518.09300 5337014.02500
SECONDARY_SE_QUAD_XY: 532557.61000 5330067.25400
SECONDARY_SW_QUAD_XY: 527906.53100 5330042.69900
RMSE_XY: 4.70000
IMAGE_SOURCE: BLACK AND WHITE FILM
SOURCE_IMAGE_ID: NAPP 9167 145
SOURCE_IMAGE_DATE: 1996 08 26
SOURCE_IMAGE_ID: NAPP 9167 186
SOURCE_IMAGE_DATE: 1996 08 26
SOURCE_IMAGE_ID: NAPP 9167 147
SOURCE_IMAGE_DATE: 1996 08 26
SOURCE_IMAGE_ID: NAPP 9167 146
SOURCE_IMAGE_DATE: 1996 08 26
SOURCE_IMAGE_ID: NAPP 9167 144
SOURCE_IMAGE_DATE: 1996 08 26
SOURCE_DEM_DATE: 1992 00 00
AGENCY: WESTERN MAPPING CENTER (WMC)
PRODUCER: UNDEFINED
PRODUCTION_SYSTEM: GIS/MAGIC
COMPRESSION: UNDEFINED
STANDARD_VERSION: 1996 12
METADATA_DATE: 2000 06 13
DATA_FILE_SIZE: 40511988
BYTE_COUNT: 5346
