FILENAME: O4811051.NES.1080831.tif
QUADRANGLE_NAME: DUTCH HENRY COULEE
QUADRANT: NE
WEST_LONGITUDE: -110 41 15.00000
EAST_LONGITUDE: -110 37 30.00000
NORTH_LATITUDE: 48 15 0.00000
SOUTH_LATITUDE: 48 11 15.00000
PRODUCTION_DATE: 2000 6 7
RASTER_ORDER: LEFT_RIGHT/TOP_BOTTOM
BAND_ORGANIZATION: SINGLE FILE
BAND_CONTENT: BLACK&WHITE
BAND_CONTENT: UNDEFINED
BAND_CONTENT: UNDEFINED
BITS_PER_PIXEL: 8
SAMPLES_AND_LINES: 5334 7574
HORIZONTAL_DATUM: NAD83
HORIZONTAL_COORDINATE_SYSTEM: UTM
COORDINATE_ZONE: 12
HORIZONTAL_UNITS: METERS
HORIZONTAL_RESOLUTION: 1.00000
SECONDARY_HORIZONTAL_DATUM: NAD27
XY_ORIGIN: 522839.00000 5344456.00000
SECONDARY_XY_ORIGIN: 522897.82100 5344239.65100
NATION: US
NATION: "SCIENCE
STATE: MT
NW_QUAD_CORNER_XY: 523198.23400 5344134.49100
NE_QUAD_CORNER_XY: 527837.87400 5344155.25900
SE_QUAD_CORNERY_XY: 527871.77900 5337208.39400
SW_QUAD_CORNER_XY: 523226.48800 5337187.62200
SECONDARY_NW_QUAD_XY: 523198.96800 5343915.56000
SECONDARY_NE_QUAD_XY: 527838.75400 5343936.32800
SECONDARY_SE_QUAD_XY: 527872.65900 5336989.47500
SECONDARY_SW_QUAD_XY: 523227.22200 5336968.70200
RMSE_XY: 1.80000
IMAGE_SOURCE: BLACK AND WHITE FILM
SOURCE_IMAGE_ID: NAPP 9167 142
SOURCE_IMAGE_DATE: 1996 08 26
SOURCE_IMAGE_ID: NAPP 9167 239
SOURCE_IMAGE_DATE: 1996 08 26
SOURCE_IMAGE_ID: NAPP 9167 186
SOURCE_IMAGE_DATE: 1996 08 26
SOURCE_IMAGE_ID: NAPP 9167 144
SOURCE_IMAGE_DATE: 1996 08 26
SOURCE_IMAGE_ID: NAPP 9167 143
SOURCE_IMAGE_DATE: 1996 08 26
SOURCE_DEM_DATE: 1968 00 00
AGENCY: WESTERN MAPPING CENTER (WMC)
PRODUCER: UNDEFINED
PRODUCTION_SYSTEM: GIS/MAGIC
COMPRESSION: UNDEFINED
STANDARD_VERSION: 1996 12
METADATA_DATE: 2000 06 13
DATA_FILE_SIZE: 40405050
BYTE_COUNT: 5334
