FILENAME: O4811051.SES.1080833.tif
QUADRANGLE_NAME: DUTCH HENRY COULEE
QUADRANT: SE
WEST_LONGITUDE: -110 41 15.00000
EAST_LONGITUDE: -110 37 30.00000
NORTH_LATITUDE: 48 11 15.00000
SOUTH_LATITUDE: 48 7 30.00000
PRODUCTION_DATE: 2000 6 7
RASTER_ORDER: LEFT_RIGHT/TOP_BOTTOM
BAND_ORGANIZATION: SINGLE FILE
BAND_CONTENT: BLACK&WHITE
BAND_CONTENT: UNDEFINED
BAND_CONTENT: UNDEFINED
BITS_PER_PIXEL: 8
SAMPLES_AND_LINES: 5340 7574
HORIZONTAL_DATUM: NAD83
HORIZONTAL_COORDINATE_SYSTEM: UTM
COORDINATE_ZONE: 12
HORIZONTAL_UNITS: METERS
HORIZONTAL_RESOLUTION: 1.00000
SECONDARY_HORIZONTAL_DATUM: NAD27
XY_ORIGIN: 522867.00000 5337509.00000
SECONDARY_XY_ORIGIN: 522925.73700 5337292.91400
NATION: US
NATION: "SCIENCE
STATE: MT
NW_QUAD_CORNER_XY: 523226.48800 5337187.62200
NE_QUAD_CORNER_XY: 527871.77900 5337208.39400
SE_QUAD_CORNERY_XY: 527905.65000 5330261.60500
SW_QUAD_CORNER_XY: 523254.71400 5330240.82800
SECONDARY_NW_QUAD_XY: 523227.22200 5336968.70200
SECONDARY_NE_QUAD_XY: 527872.65900 5336989.47500
SECONDARY_SE_QUAD_XY: 527906.53100 5330042.69900
SECONDARY_SW_QUAD_XY: 523255.44800 5330021.92100
RMSE_XY: 1.80000
IMAGE_SOURCE: BLACK AND WHITE FILM
SOURCE_IMAGE_ID: NAPP 9167 144
SOURCE_IMAGE_DATE: 1996 08 26
SOURCE_IMAGE_ID: NAPP 9167 243
SOURCE_IMAGE_DATE: 1996 08 26
SOURCE_IMAGE_ID: NAPP 9167 242
SOURCE_IMAGE_DATE: 1996 08 26
SOURCE_IMAGE_ID: NAPP 9167 184
SOURCE_IMAGE_DATE: 1996 08 26
SOURCE_IMAGE_ID: NAPP 9167 185
SOURCE_IMAGE_DATE: 1996 08 26
SOURCE_DEM_DATE: 1968 00 00
AGENCY: WESTERN MAPPING CENTER (WMC)
PRODUCER: UNDEFINED
PRODUCTION_SYSTEM: GIS/MAGIC
COMPRESSION: UNDEFINED
STANDARD_VERSION: 1996 12
METADATA_DATE: 2000 06 13
DATA_FILE_SIZE: 40450500
BYTE_COUNT: 5340
