FILENAME: O4811050.NES.1080809.tif
QUADRANGLE_NAME: PENZER SCHOOL
QUADRANT: NE
WEST_LONGITUDE: -110 48 45.00000
EAST_LONGITUDE: -110 45 0.00000
NORTH_LATITUDE: 48 15 0.00000
SOUTH_LATITUDE: 48 11 15.00000
PRODUCTION_DATE: 2000 5 24
RASTER_ORDER: LEFT_RIGHT/TOP_BOTTOM
BAND_ORGANIZATION: SINGLE FILE
BAND_CONTENT: BLACK&WHITE
BAND_CONTENT: UNDEFINED
BAND_CONTENT: UNDEFINED
BITS_PER_PIXEL: 8
SAMPLES_AND_LINES: 5324 7566
HORIZONTAL_DATUM: NAD83
HORIZONTAL_COORDINATE_SYSTEM: UTM
COORDINATE_ZONE: 12
HORIZONTAL_UNITS: METERS
HORIZONTAL_RESOLUTION: 1.00000
SECONDARY_HORIZONTAL_DATUM: NAD27
XY_ORIGIN: 513559.00000 5344418.00000
SECONDARY_XY_ORIGIN: 513617.99500 5344201.52400
NATION: US
NATION: "SCIENCE
STATE: MT
NW_QUAD_CORNER_XY: 513918.94500 5344104.28400
NE_QUAD_CORNER_XY: 518558.59100 5344117.50000
SE_QUAD_CORNERY_XY: 518581.19400 5337170.62600
SW_QUAD_CORNER_XY: 513935.89800 5337157.40700
SECONDARY_NW_QUAD_XY: 513919.38500 5343885.35200
SECONDARY_NE_QUAD_XY: 518559.17800 5343898.56800
SECONDARY_SE_QUAD_XY: 518581.78100 5336951.70600
SECONDARY_SW_QUAD_XY: 513936.33800 5336938.48700
RMSE_XY: 1.30000
IMAGE_SOURCE: BLACK AND WHITE FILM
SOURCE_IMAGE_ID: NAPP 9167 295
SOURCE_IMAGE_DATE: 1996 08 26
SOURCE_IMAGE_ID: NAPP 9168 035
SOURCE_IMAGE_DATE: 1996 08 26
SOURCE_IMAGE_ID: NAPP 9167 294
SOURCE_IMAGE_DATE: 1996 08 26
SOURCE_IMAGE_ID: NAPP 9167 296
SOURCE_IMAGE_DATE: 1996 08 26
SOURCE_IMAGE_ID: NAPP 9167 242
SOURCE_IMAGE_DATE: 1996 08 26
SOURCE_DEM_DATE: 1969 00 00
AGENCY: WESTERN MAPPING CENTER (WMC)
PRODUCER: UNDEFINED
PRODUCTION_SYSTEM: GIS/MAGIC
COMPRESSION: UNDEFINED
STANDARD_VERSION: 1996 12
METADATA_DATE: 2000 06 13
DATA_FILE_SIZE: 40286708
BYTE_COUNT: 5324
