FILENAME: O4811050.NWS.1080813.tif
QUADRANGLE_NAME: PENZER SCHOOL
QUADRANT: NW
WEST_LONGITUDE: -110 52 30.00000
EAST_LONGITUDE: -110 48 45.00000
NORTH_LATITUDE: 48 15 0.00000
SOUTH_LATITUDE: 48 11 15.00000
PRODUCTION_DATE: 2000 5 24
RASTER_ORDER: LEFT_RIGHT/TOP_BOTTOM
BAND_ORGANIZATION: SINGLE FILE
BAND_CONTENT: BLACK&WHITE
BAND_CONTENT: UNDEFINED
BAND_CONTENT: UNDEFINED
BITS_PER_PIXEL: 8
SAMPLES_AND_LINES: 5318 7562
HORIZONTAL_DATUM: NAD83
HORIZONTAL_COORDINATE_SYSTEM: UTM
COORDINATE_ZONE: 12
HORIZONTAL_UNITS: METERS
HORIZONTAL_RESOLUTION: 1.00000
SECONDARY_HORIZONTAL_DATUM: NAD27
XY_ORIGIN: 508919.00000 5344405.00000
SECONDARY_XY_ORIGIN: 508978.12600 5344188.44000
NATION: US
NATION: "SCIENCE
STATE: MT
NW_QUAD_CORNER_XY: 509279.29800 5344094.84500
NE_QUAD_CORNER_XY: 513918.94500 5344104.28400
SE_QUAD_CORNERY_XY: 513935.89800 5337157.40700
SW_QUAD_CORNER_XY: 509290.59900 5337147.96500
SECONDARY_NW_QUAD_XY: 509279.59100 5343875.91200
SECONDARY_NE_QUAD_XY: 513919.38500 5343885.35200
SECONDARY_SE_QUAD_XY: 513936.33800 5336938.48700
SECONDARY_SW_QUAD_XY: 509290.89300 5336929.04400
RMSE_XY: 1.40000
IMAGE_SOURCE: BLACK AND WHITE FILM
SOURCE_IMAGE_ID: NAPP 9167 296
SOURCE_IMAGE_DATE: 1996 08 26
SOURCE_IMAGE_ID: NAPP 9168 035
SOURCE_IMAGE_DATE: 1996 08 26
SOURCE_IMAGE_ID: NAPP 9168 033
SOURCE_IMAGE_DATE: 1996 08 26
SOURCE_IMAGE_ID: NAPP 9168 032
SOURCE_IMAGE_DATE: 1996 08 26
SOURCE_IMAGE_ID: NAPP 9167 294
SOURCE_IMAGE_DATE: 1996 08 26
SOURCE_DEM_DATE: 1969 00 00
AGENCY: WESTERN MAPPING CENTER (WMC)
PRODUCER: UNDEFINED
PRODUCTION_SYSTEM: GIS/MAGIC
COMPRESSION: UNDEFINED
STANDARD_VERSION: 1996 12
METADATA_DATE: 2000 06 13
DATA_FILE_SIZE: 40220034
BYTE_COUNT: 5318
