FILENAME: O4811049.NES.1080779.tif
QUADRANGLE_NAME: GOOSE BILL BUTTE NW
QUADRANT: NE
WEST_LONGITUDE: -110 56 15.00000
EAST_LONGITUDE: -110 52 30.00000
NORTH_LATITUDE: 48 15 0.00000
SOUTH_LATITUDE: 48 11 15.00000
PRODUCTION_DATE: 2000 5 24
RASTER_ORDER: LEFT_RIGHT/TOP_BOTTOM
BAND_ORGANIZATION: SINGLE FILE
BAND_CONTENT: BLACK&WHITE
BAND_CONTENT: UNDEFINED
BAND_CONTENT: UNDEFINED
BITS_PER_PIXEL: 8
SAMPLES_AND_LINES: 5313 7558
HORIZONTAL_DATUM: NAD83
HORIZONTAL_COORDINATE_SYSTEM: UTM
COORDINATE_ZONE: 12
HORIZONTAL_UNITS: METERS
HORIZONTAL_RESOLUTION: 1.00000
SECONDARY_HORIZONTAL_DATUM: NAD27
XY_ORIGIN: 504279.00000 5344395.00000
SECONDARY_XY_ORIGIN: 504338.25700 5344178.35500
NATION: US
NATION: "SCIENCE
STATE: MT
NW_QUAD_CORNER_XY: 504639.64900 5344089.18100
NE_QUAD_CORNER_XY: 509279.29800 5344094.84500
SE_QUAD_CORNERY_XY: 509290.59900 5337147.96500
SW_QUAD_CORNER_XY: 504645.30000 5337142.30000
SECONDARY_NW_QUAD_XY: 504639.79600 5343870.24800
SECONDARY_NE_QUAD_XY: 509279.59100 5343875.91200
SECONDARY_SE_QUAD_XY: 509290.89300 5336929.04400
SECONDARY_SW_QUAD_XY: 504645.44700 5336923.37900
RMSE_XY: 1.10000
IMAGE_SOURCE: BLACK AND WHITE FILM
SOURCE_IMAGE_ID: NAPP 9169 013
SOURCE_IMAGE_DATE: 1997 07 25
SOURCE_IMAGE_ID: NAPP 9168 035
SOURCE_IMAGE_DATE: 1996 08 26
SOURCE_IMAGE_ID: NAPP 9168 032
SOURCE_IMAGE_DATE: 1996 08 26
SOURCE_DEM_DATE: 1969 00 00
AGENCY: WESTERN MAPPING CENTER (WMC)
PRODUCER: UNDEFINED
PRODUCTION_SYSTEM: GIS/MAGIC
COMPRESSION: UNDEFINED
STANDARD_VERSION: 1996 12
METADATA_DATE: 2000 06 13
DATA_FILE_SIZE: 40160967
BYTE_COUNT: 5313
