FILENAME: O4811048.NWS.1115117.tif
QUADRANGLE_NAME: BOX ELDER
QUADRANT: NW
WEST_LONGITUDE: -110 7 30.00000
EAST_LONGITUDE: -110 3 45.00000
NORTH_LATITUDE: 48 22 30.00000
SOUTH_LATITUDE: 48 18 45.00000
PRODUCTION_DATE: 2000 10 12
RASTER_ORDER: LEFT_RIGHT/TOP_BOTTOM
BAND_ORGANIZATION: SINGLE FILE
BAND_CONTENT: BLACK&WHITE
BAND_CONTENT: UNDEFINED
BAND_CONTENT: UNDEFINED
BITS_PER_PIXEL: 8
SAMPLES_AND_LINES: 5373 7607
HORIZONTAL_DATUM: NAD83
HORIZONTAL_COORDINATE_SYSTEM: UTM
COORDINATE_ZONE: 12
HORIZONTAL_UNITS: METERS
HORIZONTAL_RESOLUTION: 1.00000
SECONDARY_HORIZONTAL_DATUM: NAD27
XY_ORIGIN: 564438.00000 5358706.00000
SECONDARY_XY_ORIGIN: 564496.77000 5358489.14600
NATION: US
NATION: "SCIENCE
STATE: MT
NW_QUAD_CORNER_XY: 564796.34200 5358351.14300
NE_QUAD_CORNER_XY: 569424.60600 5358405.87000
SE_QUAD_CORNERY_XY: 569509.54100 5351458.94400
SW_QUAD_CORNER_XY: 564875.61400 5351404.20400
SECONDARY_NW_QUAD_XY: 564798.39700 5358132.20100
SECONDARY_NE_QUAD_XY: 569426.80800 5358186.92900
SECONDARY_SE_QUAD_XY: 569511.74200 5351240.01300
SECONDARY_SW_QUAD_XY: 564877.66900 5351185.27100
RMSE_XY: 0.80000
IMAGE_SOURCE: BLACK AND WHITE FILM
SOURCE_IMAGE_ID: NAPP 9178 259
SOURCE_IMAGE_DATE: 1997 09 04
SOURCE_DEM_DATE: 1968 00 00
AGENCY: WESTERN MAPPING CENTER (WMC)
PRODUCER: UNDEFINED
PRODUCTION_SYSTEM: GIS/MAGIC
COMPRESSION: UNDEFINED
STANDARD_VERSION: 1996 12
METADATA_DATE: 2000 11 08
DATA_FILE_SIZE: 40877784
BYTE_COUNT: 5373
