FILENAME: O4811047.NES.1080031.tif
QUADRANGLE_NAME: LONESOME LAKE
QUADRANT: NE
WEST_LONGITUDE: -110 11 15.00000
EAST_LONGITUDE: -110 7 30.00000
NORTH_LATITUDE: 48 22 30.00000
SOUTH_LATITUDE: 48 18 45.00000
PRODUCTION_DATE: 2000 5 10
RASTER_ORDER: LEFT_RIGHT/TOP_BOTTOM
BAND_ORGANIZATION: SINGLE FILE
BAND_CONTENT: BLACK&WHITE
BAND_CONTENT: UNDEFINED
BAND_CONTENT: UNDEFINED
BITS_PER_PIXEL: 8
SAMPLES_AND_LINES: 5367 7604
HORIZONTAL_DATUM: NAD83
HORIZONTAL_COORDINATE_SYSTEM: UTM
COORDINATE_ZONE: 12
HORIZONTAL_UNITS: METERS
HORIZONTAL_RESOLUTION: 1.00000
SECONDARY_HORIZONTAL_DATUM: NAD27
XY_ORIGIN: 559810.00000 5358652.00000
SECONDARY_XY_ORIGIN: 559868.71600 5358435.19500
NATION: US
NATION: "SCIENCE
STATE: MT
NW_QUAD_CORNER_XY: 560168.07000 5358300.19200
NE_QUAD_CORNER_XY: 564796.34200 5358351.14300
SE_QUAD_CORNERY_XY: 564875.61400 5351404.20400
SW_QUAD_CORNER_XY: 560241.67900 5351353.23900
SECONDARY_NW_QUAD_XY: 560169.97800 5358081.24700
SECONDARY_NE_QUAD_XY: 564798.39700 5358132.20100
SECONDARY_SE_QUAD_XY: 564877.66900 5351185.27100
SECONDARY_SW_QUAD_XY: 560243.58700 5351134.30500
RMSE_XY: 1.00000
IMAGE_SOURCE: BLACK AND WHITE FILM
SOURCE_IMAGE_ID: NAPP 9179 048
SOURCE_IMAGE_DATE: 1997 09 04
SOURCE_IMAGE_ID: NAPP 9179 049
SOURCE_IMAGE_DATE: 1997 09 04
SOURCE_DEM_DATE: 1968 00 00
AGENCY: WESTERN MAPPING CENTER (WMC)
PRODUCER: UNDEFINED
PRODUCTION_SYSTEM: GIS/MAGIC
COMPRESSION: UNDEFINED
STANDARD_VERSION: 1996 12
METADATA_DATE: 2000 06 12
DATA_FILE_SIZE: 40816035
BYTE_COUNT: 5367
