FILENAME: O4811047.NWS.1080032.tif
QUADRANGLE_NAME: LONESOME LAKE
QUADRANT: NW
WEST_LONGITUDE: -110 15 0.00000
EAST_LONGITUDE: -110 11 15.00000
NORTH_LATITUDE: 48 22 30.00000
SOUTH_LATITUDE: 48 18 45.00000
PRODUCTION_DATE: 2000 5 10
RASTER_ORDER: LEFT_RIGHT/TOP_BOTTOM
BAND_ORGANIZATION: SINGLE FILE
BAND_CONTENT: BLACK&WHITE
BAND_CONTENT: UNDEFINED
BAND_CONTENT: UNDEFINED
BITS_PER_PIXEL: 8
SAMPLES_AND_LINES: 5362 7600
HORIZONTAL_DATUM: NAD83
HORIZONTAL_COORDINATE_SYSTEM: UTM
COORDINATE_ZONE: 12
HORIZONTAL_UNITS: METERS
HORIZONTAL_RESOLUTION: 1.00000
SECONDARY_HORIZONTAL_DATUM: NAD27
XY_ORIGIN: 555181.00000 5358601.00000
SECONDARY_XY_ORIGIN: 555239.66200 5358384.24300
NATION: US
NATION: "SCIENCE
STATE: MT
NW_QUAD_CORNER_XY: 555539.78900 5358253.01500
NE_QUAD_CORNER_XY: 560168.07000 5358300.19200
SE_QUAD_CORNERY_XY: 560241.67900 5351353.23900
SW_QUAD_CORNER_XY: 555607.73500 5351306.05100
SECONDARY_NW_QUAD_XY: 555541.55000 5358034.06900
SECONDARY_NE_QUAD_XY: 560169.97800 5358081.24700
SECONDARY_SE_QUAD_XY: 560243.58700 5351134.30500
SECONDARY_SW_QUAD_XY: 555609.49600 5351087.11500
RMSE_XY: 1.00000
IMAGE_SOURCE: BLACK AND WHITE FILM
SOURCE_IMAGE_ID: NAPP 9177 032
SOURCE_IMAGE_DATE: 1997 09 04
SOURCE_IMAGE_ID: NAPP 9177 031
SOURCE_IMAGE_DATE: 1997 09 04
SOURCE_DEM_DATE: 1968 00 00
AGENCY: WESTERN MAPPING CENTER (WMC)
PRODUCER: UNDEFINED
PRODUCTION_SYSTEM: GIS/MAGIC
COMPRESSION: UNDEFINED
STANDARD_VERSION: 1996 12
METADATA_DATE: 2000 06 12
DATA_FILE_SIZE: 40756562
BYTE_COUNT: 5362
