FILENAME: O4811046.SWS.1080022.tif
QUADRANGLE_NAME: FOURTEENMILE COULEE SE
QUADRANT: SW
WEST_LONGITUDE: -110 22 30.00000
EAST_LONGITUDE: -110 18 45.00000
NORTH_LATITUDE: 48 18 45.00000
SOUTH_LATITUDE: 48 15 0.00000
PRODUCTION_DATE: 2000 5 9
RASTER_ORDER: LEFT_RIGHT/TOP_BOTTOM
BAND_ORGANIZATION: SINGLE FILE
BAND_CONTENT: BLACK&WHITE
BAND_CONTENT: UNDEFINED
BAND_CONTENT: UNDEFINED
BITS_PER_PIXEL: 8
SAMPLES_AND_LINES: 5357 7592
HORIZONTAL_DATUM: NAD83
HORIZONTAL_COORDINATE_SYSTEM: UTM
COORDINATE_ZONE: 12
HORIZONTAL_UNITS: METERS
HORIZONTAL_RESOLUTION: 1.00000
SECONDARY_HORIZONTAL_DATUM: NAD27
XY_ORIGIN: 545981.00000 5351563.00000
SECONDARY_XY_ORIGIN: 546039.70900 5351346.50300
NATION: US
NATION: "SCIENCE
STATE: MT
NW_QUAD_CORNER_XY: 546339.82500 5351222.99900
NE_QUAD_CORNER_XY: 550973.78300 5351262.63700
SE_QUAD_CORNERY_XY: 551036.00600 5344315.73700
SW_QUAD_CORNER_XY: 546396.39000 5344276.08900
SECONDARY_NW_QUAD_XY: 546341.29300 5351004.06100
SECONDARY_NE_QUAD_XY: 550975.39800 5351043.70000
SECONDARY_SE_QUAD_XY: 551037.62000 5344096.81000
SECONDARY_SW_QUAD_XY: 546397.85800 5344057.16100
RMSE_XY: 1.00000
IMAGE_SOURCE: BLACK AND WHITE FILM
SOURCE_IMAGE_ID: NAPP 9177 134
SOURCE_IMAGE_DATE: 1997 09 04
SOURCE_IMAGE_ID: NAPP 9177 146
SOURCE_IMAGE_DATE: 1997 09 04
SOURCE_DEM_DATE: 1968 00 00
AGENCY: WESTERN MAPPING CENTER (WMC)
PRODUCER: UNDEFINED
PRODUCTION_SYSTEM: GIS/MAGIC
COMPRESSION: UNDEFINED
STANDARD_VERSION: 1996 12
METADATA_DATE: 2000 06 12
DATA_FILE_SIZE: 40675701
BYTE_COUNT: 5357
