FILENAME: O4811045.NES.1080011.tif
QUADRANGLE_NAME: FOURTEENMILE COULEE SW
QUADRANT: NE
WEST_LONGITUDE: -110 26 15.00000
EAST_LONGITUDE: -110 22 30.00000
NORTH_LATITUDE: 48 22 30.00000
SOUTH_LATITUDE: 48 18 45.00000
PRODUCTION_DATE: 2000 5 10
RASTER_ORDER: LEFT_RIGHT/TOP_BOTTOM
BAND_ORGANIZATION: SINGLE FILE
BAND_CONTENT: BLACK&WHITE
BAND_CONTENT: UNDEFINED
BAND_CONTENT: UNDEFINED
BITS_PER_PIXEL: 8
SAMPLES_AND_LINES: 5345 7588
HORIZONTAL_DATUM: NAD83
HORIZONTAL_COORDINATE_SYSTEM: UTM
COORDINATE_ZONE: 12
HORIZONTAL_UNITS: METERS
HORIZONTAL_RESOLUTION: 1.00000
SECONDARY_HORIZONTAL_DATUM: NAD27
XY_ORIGIN: 541296.00000 5358470.00000
SECONDARY_XY_ORIGIN: 541354.72100 5358253.22100
NATION: US
NATION: "SCIENCE
STATE: MT
NW_QUAD_CORNER_XY: 541654.90200 5358134.13100
NE_QUAD_CORNER_XY: 546283.20400 5358169.98400
SE_QUAD_CORNERY_XY: 546339.82500 5351222.99900
SW_QUAD_CORNER_XY: 541705.86000 5351187.13600
SECONDARY_NW_QUAD_XY: 541656.22300 5357915.18100
SECONDARY_NE_QUAD_XY: 546284.67200 5357951.03600
SECONDARY_SE_QUAD_XY: 546341.29300 5351004.06100
SECONDARY_SW_QUAD_XY: 541707.18100 5350968.19700
RMSE_XY: 1.00000
IMAGE_SOURCE: BLACK AND WHITE FILM
SOURCE_IMAGE_ID: NAPP 9177 182
SOURCE_IMAGE_DATE: 1997 09 04
SOURCE_IMAGE_ID: NAPP 9177 181
SOURCE_IMAGE_DATE: 1997 09 04
SOURCE_IMAGE_ID: NAPP 9177 183
SOURCE_IMAGE_DATE: 1997 09 04
SOURCE_DEM_DATE: 1968 00 00
AGENCY: WESTERN MAPPING CENTER (WMC)
PRODUCER: UNDEFINED
PRODUCTION_SYSTEM: GIS/MAGIC
COMPRESSION: UNDEFINED
STANDARD_VERSION: 1996 12
METADATA_DATE: 2000 06 12
DATA_FILE_SIZE: 40563205
BYTE_COUNT: 5345
