FILENAME: O4811045.NWS.1080012.tif
QUADRANGLE_NAME: FOURTEENMILE COULEE SW
QUADRANT: NW
WEST_LONGITUDE: -110 30 0.00000
EAST_LONGITUDE: -110 26 15.00000
NORTH_LATITUDE: 48 22 30.00000
SOUTH_LATITUDE: 48 18 45.00000
PRODUCTION_DATE: 2000 5 31
RASTER_ORDER: LEFT_RIGHT/TOP_BOTTOM
BAND_ORGANIZATION: SINGLE FILE
BAND_CONTENT: BLACK&WHITE
BAND_CONTENT: UNDEFINED
BAND_CONTENT: UNDEFINED
BITS_PER_PIXEL: 8
SAMPLES_AND_LINES: 5339 7585
HORIZONTAL_DATUM: NAD83
HORIZONTAL_COORDINATE_SYSTEM: UTM
COORDINATE_ZONE: 12
HORIZONTAL_UNITS: METERS
HORIZONTAL_RESOLUTION: 1.00000
SECONDARY_HORIZONTAL_DATUM: NAD27
XY_ORIGIN: 536668.00000 5358435.00000
SECONDARY_XY_ORIGIN: 536726.74200 5358218.21500
NATION: US
NATION: "SCIENCE
STATE: MT
NW_QUAD_CORNER_XY: 537026.59400 5358102.05100
NE_QUAD_CORNER_XY: 541654.90200 5358134.13100
SE_QUAD_CORNERY_XY: 541705.86000 5351187.13600
SW_QUAD_CORNER_XY: 537071.89000 5351155.04900
SECONDARY_NW_QUAD_XY: 537027.76800 5357883.10000
SECONDARY_NE_QUAD_XY: 541656.22300 5357915.18100
SECONDARY_SE_QUAD_XY: 541707.18100 5350968.19700
SECONDARY_SW_QUAD_XY: 537073.06400 5350936.10800
RMSE_XY: 0.70000
IMAGE_SOURCE: BLACK AND WHITE FILM
SOURCE_IMAGE_ID: NAPP 9177 233
SOURCE_IMAGE_DATE: 1997 09 04
SOURCE_IMAGE_ID: NAPP 9177 232
SOURCE_IMAGE_DATE: 1997 09 04
SOURCE_DEM_DATE: 1968 00 00
AGENCY: WESTERN MAPPING CENTER (WMC)
PRODUCER: UNDEFINED
PRODUCTION_SYSTEM: GIS/MAGIC
COMPRESSION: UNDEFINED
STANDARD_VERSION: 1996 12
METADATA_DATE: 2000 06 12
DATA_FILE_SIZE: 40501654
BYTE_COUNT: 5339
