FILENAME: O4811045.SWS.1080014.tif
QUADRANGLE_NAME: FOURTEENMILE COULEE SW
QUADRANT: SW
WEST_LONGITUDE: -110 30 0.00000
EAST_LONGITUDE: -110 26 15.00000
NORTH_LATITUDE: 48 18 45.00000
SOUTH_LATITUDE: 48 15 0.00000
PRODUCTION_DATE: 2000 5 31
RASTER_ORDER: LEFT_RIGHT/TOP_BOTTOM
BAND_ORGANIZATION: SINGLE FILE
BAND_CONTENT: BLACK&WHITE
BAND_CONTENT: UNDEFINED
BAND_CONTENT: UNDEFINED
BITS_PER_PIXEL: 8
SAMPLES_AND_LINES: 5345 7585
HORIZONTAL_DATUM: NAD83
HORIZONTAL_COORDINATE_SYSTEM: UTM
COORDINATE_ZONE: 12
HORIZONTAL_UNITS: METERS
HORIZONTAL_RESOLUTION: 1.00000
SECONDARY_HORIZONTAL_DATUM: NAD27
XY_ORIGIN: 536713.00000 5351488.00000
SECONDARY_XY_ORIGIN: 536771.72500 5351271.48800
NATION: US
NATION: "SCIENCE
STATE: MT
NW_QUAD_CORNER_XY: 537071.89000 5351155.04900
NE_QUAD_CORNER_XY: 541705.86000 5351187.13600
SE_QUAD_CORNERY_XY: 541756.76900 5344240.21700
SW_QUAD_CORNER_XY: 537117.14200 5344208.12200
SECONDARY_NW_QUAD_XY: 537073.06400 5350936.10800
SECONDARY_NE_QUAD_XY: 541707.18100 5350968.19700
SECONDARY_SE_QUAD_XY: 541758.09000 5344021.28900
SECONDARY_SW_QUAD_XY: 537118.31600 5343989.19200
RMSE_XY: 1.00000
IMAGE_SOURCE: BLACK AND WHITE FILM
SOURCE_IMAGE_ID: NAPP 9177 235
SOURCE_IMAGE_DATE: 1997 09 04
SOURCE_IMAGE_ID: NAPP 9177 236
SOURCE_IMAGE_DATE: 1997 09 04
SOURCE_DEM_DATE: 1968 00 00
AGENCY: WESTERN MAPPING CENTER (WMC)
PRODUCER: UNDEFINED
PRODUCTION_SYSTEM: GIS/MAGIC
COMPRESSION: UNDEFINED
STANDARD_VERSION: 1996 12
METADATA_DATE: 2000 06 12
DATA_FILE_SIZE: 40547170
BYTE_COUNT: 5345
