FILENAME: O4811044.NES.1080851.tif
QUADRANGLE_NAME: ROCKY COULEE SE
QUADRANT: NE
WEST_LONGITUDE: -110 33 45.00000
EAST_LONGITUDE: -110 30 0.00000
NORTH_LATITUDE: 48 22 30.00000
SOUTH_LATITUDE: 48 18 45.00000
PRODUCTION_DATE: 2000 6 9
RASTER_ORDER: LEFT_RIGHT/TOP_BOTTOM
BAND_ORGANIZATION: SINGLE FILE
BAND_CONTENT: BLACK&WHITE
BAND_CONTENT: UNDEFINED
BAND_CONTENT: UNDEFINED
BITS_PER_PIXEL: 8
SAMPLES_AND_LINES: 5334 7581
HORIZONTAL_DATUM: NAD83
HORIZONTAL_COORDINATE_SYSTEM: UTM
COORDINATE_ZONE: 12
HORIZONTAL_UNITS: METERS
HORIZONTAL_RESOLUTION: 1.00000
SECONDARY_HORIZONTAL_DATUM: NAD27
XY_ORIGIN: 532039.00000 5358403.00000
SECONDARY_XY_ORIGIN: 532097.79800 5358186.17100
NATION: US
NATION: "SCIENCE
STATE: MT
NW_QUAD_CORNER_XY: 532398.28100 5358073.74600
NE_QUAD_CORNER_XY: 537026.59400 5358102.05100
SE_QUAD_CORNERY_XY: 537071.89000 5351155.04900
SW_QUAD_CORNER_XY: 532437.91500 5351126.73600
SECONDARY_NW_QUAD_XY: 532399.30800 5357854.79400
SECONDARY_NE_QUAD_XY: 537027.76800 5357883.10000
SECONDARY_SE_QUAD_XY: 537073.06400 5350936.10800
SECONDARY_SW_QUAD_XY: 532438.94200 5350907.79500
RMSE_XY: 0.80000
IMAGE_SOURCE: BLACK AND WHITE FILM
SOURCE_IMAGE_ID: NAPP 9167 094
SOURCE_IMAGE_DATE: 1996 08 26
SOURCE_IMAGE_ID: NAPP 9167 139
SOURCE_IMAGE_DATE: 1996 08 26
SOURCE_IMAGE_ID: NAPP 9167 093
SOURCE_IMAGE_DATE: 1996 08 26
SOURCE_IMAGE_ID: NAPP 9177 233
SOURCE_IMAGE_DATE: 1997 09 04
SOURCE_DEM_DATE: 1969 00 00
AGENCY: WESTERN MAPPING CENTER (WMC)
PRODUCER: UNDEFINED
PRODUCTION_SYSTEM: GIS/MAGIC
COMPRESSION: UNDEFINED
STANDARD_VERSION: 1996 12
METADATA_DATE: 2000 06 13
DATA_FILE_SIZE: 40442388
BYTE_COUNT: 5334
