FILENAME: O4811044.NWS.1080852.tif
QUADRANGLE_NAME: ROCKY COULEE SE
QUADRANT: NW
WEST_LONGITUDE: -110 37 30.00000
EAST_LONGITUDE: -110 33 45.00000
NORTH_LATITUDE: 48 22 30.00000
SOUTH_LATITUDE: 48 18 45.00000
PRODUCTION_DATE: 2000 6 9
RASTER_ORDER: LEFT_RIGHT/TOP_BOTTOM
BAND_ORGANIZATION: SINGLE FILE
BAND_CONTENT: BLACK&WHITE
BAND_CONTENT: UNDEFINED
BAND_CONTENT: UNDEFINED
BITS_PER_PIXEL: 8
SAMPLES_AND_LINES: 5329 7577
HORIZONTAL_DATUM: NAD83
HORIZONTAL_COORDINATE_SYSTEM: UTM
COORDINATE_ZONE: 12
HORIZONTAL_UNITS: METERS
HORIZONTAL_RESOLUTION: 1.00000
SECONDARY_HORIZONTAL_DATUM: NAD27
XY_ORIGIN: 527410.00000 5358374.00000
SECONDARY_XY_ORIGIN: 527468.85200 5358157.12800
NATION: US
NATION: "SCIENCE
STATE: MT
NW_QUAD_CORNER_XY: 527769.96400 5358049.21500
NE_QUAD_CORNER_XY: 532398.28100 5358073.74600
SE_QUAD_CORNERY_XY: 532437.91500 5351126.73600
SW_QUAD_CORNER_XY: 527803.93500 5351102.19900
SECONDARY_NW_QUAD_XY: 527770.84400 5357830.26200
SECONDARY_NE_QUAD_XY: 532399.30800 5357854.79400
SECONDARY_SE_QUAD_XY: 532438.94200 5350907.79500
SECONDARY_SW_QUAD_XY: 527804.81600 5350883.25700
RMSE_XY: 0.80000
IMAGE_SOURCE: BLACK AND WHITE FILM
SOURCE_IMAGE_ID: NAPP 9167 139
SOURCE_IMAGE_DATE: 1996 08 26
SOURCE_IMAGE_ID: NAPP 9167 192
SOURCE_IMAGE_DATE: 1996 08 26
SOURCE_IMAGE_ID: NAPP 9167 141
SOURCE_IMAGE_DATE: 1996 08 26
SOURCE_IMAGE_ID: NAPP 9167 140
SOURCE_IMAGE_DATE: 1996 08 26
SOURCE_DEM_DATE: 1969 00 00
AGENCY: WESTERN MAPPING CENTER (WMC)
PRODUCER: UNDEFINED
PRODUCTION_SYSTEM: GIS/MAGIC
COMPRESSION: UNDEFINED
STANDARD_VERSION: 1996 12
METADATA_DATE: 2000 06 13
DATA_FILE_SIZE: 40383162
BYTE_COUNT: 5329
