FILENAME: O4811043.SES.1080849.tif
QUADRANGLE_NAME: ROCKY COULEE SW
QUADRANT: SE
WEST_LONGITUDE: -110 41 15.00000
EAST_LONGITUDE: -110 37 30.00000
NORTH_LATITUDE: 48 18 45.00000
SOUTH_LATITUDE: 48 15 0.00000
PRODUCTION_DATE: 2000 6 7
RASTER_ORDER: LEFT_RIGHT/TOP_BOTTOM
BAND_ORGANIZATION: SINGLE FILE
BAND_CONTENT: BLACK&WHITE
BAND_CONTENT: UNDEFINED
BAND_CONTENT: UNDEFINED
BITS_PER_PIXEL: 8
SAMPLES_AND_LINES: 5329 7574
HORIZONTAL_DATUM: NAD83
HORIZONTAL_COORDINATE_SYSTEM: UTM
COORDINATE_ZONE: 12
HORIZONTAL_UNITS: METERS
HORIZONTAL_RESOLUTION: 1.00000
SECONDARY_HORIZONTAL_DATUM: NAD27
XY_ORIGIN: 522810.00000 5351403.00000
SECONDARY_XY_ORIGIN: 522868.86300 5351186.36400
NATION: US
NATION: "SCIENCE
STATE: MT
NW_QUAD_CORNER_XY: 523169.95200 5351081.43700
NE_QUAD_CORNER_XY: 527803.93500 5351102.19900
SE_QUAD_CORNERY_XY: 527837.87400 5344155.25900
SW_QUAD_CORNER_XY: 523198.23400 5344134.49100
SECONDARY_NW_QUAD_XY: 523170.68600 5350862.49400
SECONDARY_NE_QUAD_XY: 527804.81600 5350883.25700
SECONDARY_SE_QUAD_XY: 527838.75400 5343936.32800
SECONDARY_SW_QUAD_XY: 523198.96800 5343915.56000
RMSE_XY: 1.60000
IMAGE_SOURCE: BLACK AND WHITE FILM
SOURCE_IMAGE_ID: NAPP 9167 190
SOURCE_IMAGE_DATE: 1996 08 26
SOURCE_IMAGE_ID: NAPP 9167 239
SOURCE_IMAGE_DATE: 1996 08 26
SOURCE_IMAGE_ID: NAPP 9167 238
SOURCE_IMAGE_DATE: 1996 08 26
SOURCE_IMAGE_ID: NAPP 9167 237
SOURCE_IMAGE_DATE: 1996 08 26
SOURCE_IMAGE_ID: NAPP 9167 142
SOURCE_IMAGE_DATE: 1996 08 26
SOURCE_DEM_DATE: 1969 00 00
AGENCY: WESTERN MAPPING CENTER (WMC)
PRODUCER: UNDEFINED
PRODUCTION_SYSTEM: GIS/MAGIC
COMPRESSION: UNDEFINED
STANDARD_VERSION: 1996 12
METADATA_DATE: 2000 06 13
DATA_FILE_SIZE: 40367175
BYTE_COUNT: 5329
