FILENAME: O4811042.NWS.1080804.tif
QUADRANGLE_NAME: POVERTY COULEE SE
QUADRANT: NW
WEST_LONGITUDE: -110 52 30.00000
EAST_LONGITUDE: -110 48 45.00000
NORTH_LATITUDE: 48 22 30.00000
SOUTH_LATITUDE: 48 18 45.00000
PRODUCTION_DATE: 2000 6 7
RASTER_ORDER: LEFT_RIGHT/TOP_BOTTOM
BAND_ORGANIZATION: SINGLE FILE
BAND_CONTENT: BLACK&WHITE
BAND_CONTENT: UNDEFINED
BAND_CONTENT: UNDEFINED
BITS_PER_PIXEL: 8
SAMPLES_AND_LINES: 5307 7562
HORIZONTAL_DATUM: NAD83
HORIZONTAL_COORDINATE_SYSTEM: UTM
COORDINATE_ZONE: 12
HORIZONTAL_UNITS: METERS
HORIZONTAL_RESOLUTION: 1.00000
SECONDARY_HORIZONTAL_DATUM: NAD27
XY_ORIGIN: 508896.00000 5358299.00000
SECONDARY_XY_ORIGIN: 508955.22900 5358081.91500
NATION: US
NATION: "SCIENCE
STATE: MT
NW_QUAD_CORNER_XY: 509256.66100 5357988.83100
NE_QUAD_CORNER_XY: 513884.99000 5357998.26600
SE_QUAD_CORNERY_XY: 513901.97600 5351051.23700
SW_QUAD_CORNER_XY: 509267.98500 5351041.80000
SECONDARY_NW_QUAD_XY: 509256.95500 5357769.87700
SECONDARY_NE_QUAD_XY: 513885.43100 5357779.31200
SECONDARY_SE_QUAD_XY: 513902.41600 5350832.29300
SECONDARY_SW_QUAD_XY: 509268.27900 5350822.85600
RMSE_XY: 0.90000
IMAGE_SOURCE: BLACK AND WHITE FILM
SOURCE_IMAGE_ID: NAPP 9167 299
SOURCE_IMAGE_DATE: 1996 08 26
SOURCE_IMAGE_ID: NAPP 9169 017
SOURCE_IMAGE_DATE: 1997 07 25
SOURCE_IMAGE_ID: NAPP 9168 032
SOURCE_IMAGE_DATE: 1996 08 26
SOURCE_IMAGE_ID: NAPP 9168 029
SOURCE_IMAGE_DATE: 1996 08 26
SOURCE_IMAGE_ID: NAPP 9167 297
SOURCE_IMAGE_DATE: 1996 08 26
SOURCE_DEM_DATE: 1969 00 00
AGENCY: WESTERN MAPPING CENTER (WMC)
PRODUCER: UNDEFINED
PRODUCTION_SYSTEM: GIS/MAGIC
COMPRESSION: UNDEFINED
STANDARD_VERSION: 1996 12
METADATA_DATE: 2000 06 13
DATA_FILE_SIZE: 40136841
BYTE_COUNT: 5307
