FILENAME: O4811041.NWS.1080776.tif
QUADRANGLE_NAME: CIRCLE BRIDGE
QUADRANT: NW
WEST_LONGITUDE: -111 0 0.00000
EAST_LONGITUDE: -110 56 15.00000
NORTH_LATITUDE: 48 22 30.00000
SOUTH_LATITUDE: 48 18 45.00000
PRODUCTION_DATE: 2000 6 7
RASTER_ORDER: LEFT_RIGHT/TOP_BOTTOM
BAND_ORGANIZATION: SINGLE FILE
BAND_CONTENT: BLACK&WHITE
BAND_CONTENT: UNDEFINED
BAND_CONTENT: UNDEFINED
BITS_PER_PIXEL: 8
SAMPLES_AND_LINES: 5296 7554
HORIZONTAL_DATUM: NAD83
HORIZONTAL_COORDINATE_SYSTEM: UTM
COORDINATE_ZONE: 12
HORIZONTAL_UNITS: METERS
HORIZONTAL_RESOLUTION: 1.00000
SECONDARY_HORIZONTAL_DATUM: NAD27
XY_ORIGIN: 499639.00000 5358284.00000
SECONDARY_XY_ORIGIN: 499698.49200 5358066.79400
NATION: US
NATION: "SCIENCE
STATE: MT
NW_QUAD_CORNER_XY: 500000.00000 5357981.28300
NE_QUAD_CORNER_XY: 504628.33100 5357983.17000
SE_QUAD_CORNERY_XY: 504633.99300 5351036.13800
SW_QUAD_CORNER_XY: 500000.00000 5351034.25000
SECONDARY_NW_QUAD_XY: 500000.00000 5357762.32800
SECONDARY_NE_QUAD_XY: 504628.47800 5357764.21500
SECONDARY_SE_QUAD_XY: 504634.14000 5350817.19300
SECONDARY_SW_QUAD_XY: 500000.00000 5350815.30600
RMSE_XY: 1.70000
IMAGE_SOURCE: BLACK AND WHITE FILM
SOURCE_IMAGE_ID: NAPP 9169 062
SOURCE_IMAGE_DATE: 1997 07 25
SOURCE_IMAGE_ID: NAPP 9169 063
SOURCE_IMAGE_DATE: 1997 07 25
SOURCE_IMAGE_ID: NAPP 9169 061
SOURCE_IMAGE_DATE: 1997 07 25
SOURCE_IMAGE_ID: NAPP 9169 017
SOURCE_IMAGE_DATE: 1997 07 25
SOURCE_DEM_DATE: 1969 00 00
AGENCY: WESTERN MAPPING CENTER (WMC)
PRODUCER: UNDEFINED
PRODUCTION_SYSTEM: GIS/MAGIC
COMPRESSION: UNDEFINED
STANDARD_VERSION: 1996 12
METADATA_DATE: 2000 06 13
DATA_FILE_SIZE: 40011280
BYTE_COUNT: 5296
