FILENAME: O4811040.NES.1115112.tif
QUADRANGLE_NAME: BAILEY RESERVOIR
QUADRANT: NE
WEST_LONGITUDE: -110 3 45.00000
EAST_LONGITUDE: -110 0 0.00000
NORTH_LATITUDE: 48 30 0.00000
SOUTH_LATITUDE: 48 26 15.00000
PRODUCTION_DATE: 2000 10 12
RASTER_ORDER: LEFT_RIGHT/TOP_BOTTOM
BAND_ORGANIZATION: SINGLE FILE
BAND_CONTENT: BLACK&WHITE
BAND_CONTENT: UNDEFINED
BAND_CONTENT: UNDEFINED
BITS_PER_PIXEL: 8
SAMPLES_AND_LINES: 5368 7610
HORIZONTAL_DATUM: NAD83
HORIZONTAL_COORDINATE_SYSTEM: UTM
COORDINATE_ZONE: 12
HORIZONTAL_UNITS: METERS
HORIZONTAL_RESOLUTION: 1.00000
SECONDARY_HORIZONTAL_DATUM: NAD27
XY_ORIGIN: 568896.00000 5372659.00000
SECONDARY_XY_ORIGIN: 568954.77700 5372441.55100
NATION: US
NATION: "SCIENCE
STATE: MT
NW_QUAD_CORNER_XY: 569254.48700 5372299.94300
NE_QUAD_CORNER_XY: 573871.39800 5372358.41300
SE_QUAD_CORNERY_XY: 573962.17300 5365411.35500
SW_QUAD_CORNER_XY: 569339.58800 5365352.86900
SECONDARY_NW_QUAD_XY: 569256.68900 5372080.98400
SECONDARY_NE_QUAD_XY: 573873.74700 5372139.45600
SECONDARY_SE_QUAD_XY: 573964.52200 5365192.40700
SECONDARY_SW_QUAD_XY: 569341.79000 5365133.91900
RMSE_XY: 1.90000
IMAGE_SOURCE: BLACK AND WHITE FILM
SOURCE_IMAGE_ID: NAPP 9178 218
SOURCE_IMAGE_DATE: 1997 09 04
SOURCE_DEM_DATE: 1968 00 00
AGENCY: WESTERN MAPPING CENTER (WMC)
PRODUCER: UNDEFINED
PRODUCTION_SYSTEM: GIS/MAGIC
COMPRESSION: UNDEFINED
STANDARD_VERSION: 1996 12
METADATA_DATE: 2000 11 08
DATA_FILE_SIZE: 40855848
BYTE_COUNT: 5368
