FILENAME: O4811039.NES.1115092.tif
QUADRANGLE_NAME: BOX ELDER NW
QUADRANT: NE
WEST_LONGITUDE: -110 11 15.00000
EAST_LONGITUDE: -110 7 30.00000
NORTH_LATITUDE: 48 30 0.00000
SOUTH_LATITUDE: 48 26 15.00000
PRODUCTION_DATE: 2000 10 13
RASTER_ORDER: LEFT_RIGHT/TOP_BOTTOM
BAND_ORGANIZATION: SINGLE FILE
BAND_CONTENT: BLACK&WHITE
BAND_CONTENT: UNDEFINED
BAND_CONTENT: UNDEFINED
BITS_PER_PIXEL: 8
SAMPLES_AND_LINES: 5356 7603
HORIZONTAL_DATUM: NAD83
HORIZONTAL_COORDINATE_SYSTEM: UTM
COORDINATE_ZONE: 12
HORIZONTAL_UNITS: METERS
HORIZONTAL_RESOLUTION: 1.00000
SECONDARY_HORIZONTAL_DATUM: NAD27
XY_ORIGIN: 559662.00000 5372546.00000
SECONDARY_XY_ORIGIN: 559720.65600 5372328.64000
NATION: US
NATION: "SCIENCE
STATE: MT
NW_QUAD_CORNER_XY: 560020.63600 5372194.32000
NE_QUAD_CORNER_XY: 564637.56600 5372245.24500
SE_QUAD_CORNERY_XY: 564716.99300 5365298.15700
SW_QUAD_CORNER_XY: 560094.38900 5365247.21900
SECONDARY_NW_QUAD_XY: 560022.54400 5371975.35700
SECONDARY_NE_QUAD_XY: 564639.62100 5372026.28400
SECONDARY_SE_QUAD_XY: 564719.04800 5365079.20500
SECONDARY_SW_QUAD_XY: 560096.29700 5365028.26500
RMSE_XY: 1.50000
IMAGE_SOURCE: BLACK AND WHITE FILM
SOURCE_IMAGE_ID: NAPP 9179 052
SOURCE_IMAGE_DATE: 1997 09 04
SOURCE_DEM_DATE: 1968 00 00
AGENCY: WESTERN MAPPING CENTER (WMC)
PRODUCER: UNDEFINED
PRODUCTION_SYSTEM: GIS/MAGIC
COMPRESSION: UNDEFINED
STANDARD_VERSION: 1996 12
METADATA_DATE: 2000 11 29
DATA_FILE_SIZE: 40727024
BYTE_COUNT: 5356
