FILENAME: O4811038.SES.1115070.tif
QUADRANGLE_NAME: FOURTEENMILE COULEE NE
QUADRANT: SE
WEST_LONGITUDE: -110 18 45.00000
EAST_LONGITUDE: -110 15 0.00000
NORTH_LATITUDE: 48 26 15.00000
SOUTH_LATITUDE: 48 22 30.00000
PRODUCTION_DATE: 2000 10 13
RASTER_ORDER: LEFT_RIGHT/TOP_BOTTOM
BAND_ORGANIZATION: SINGLE FILE
BAND_CONTENT: BLACK&WHITE
BAND_CONTENT: UNDEFINED
BAND_CONTENT: UNDEFINED
BITS_PER_PIXEL: 8
SAMPLES_AND_LINES: 5350 7596
HORIZONTAL_DATUM: NAD83
HORIZONTAL_COORDINATE_SYSTEM: UTM
COORDINATE_ZONE: 12
HORIZONTAL_UNITS: METERS
HORIZONTAL_RESOLUTION: 1.00000
SECONDARY_HORIZONTAL_DATUM: NAD27
XY_ORIGIN: 550491.00000 5365501.00000
SECONDARY_XY_ORIGIN: 550549.66200 5365283.95500
NATION: US
NATION: "SCIENCE
STATE: MT
NW_QUAD_CORNER_XY: 550849.15600 5365156.66200
NE_QUAD_CORNER_XY: 555471.77600 5365200.05400
SE_QUAD_CORNERY_XY: 555539.78900 5358253.01500
SW_QUAD_CORNER_XY: 550911.50000 5358209.61200
SECONDARY_NW_QUAD_XY: 550850.77000 5364937.70600
SECONDARY_NE_QUAD_XY: 555473.53700 5364981.09800
SECONDARY_SE_QUAD_XY: 555541.55000 5358034.06900
SECONDARY_SW_QUAD_XY: 550913.11500 5357990.66500
RMSE_XY: 0.90000
IMAGE_SOURCE: BLACK AND WHITE FILM
SOURCE_IMAGE_ID: NAPP 9177 089
SOURCE_IMAGE_DATE: 1997 09 04
SOURCE_DEM_DATE: 1968 00 00
AGENCY: WESTERN MAPPING CENTER (WMC)
PRODUCER: UNDEFINED
PRODUCTION_SYSTEM: GIS/MAGIC
COMPRESSION: UNDEFINED
STANDARD_VERSION: 1996 12
METADATA_DATE: 2000 11 29
DATA_FILE_SIZE: 40643950
BYTE_COUNT: 5350
