FILENAME: O4811037.NWS.1115057.tif
QUADRANGLE_NAME: FOURTEENMILE COULEE NW
QUADRANT: NW
WEST_LONGITUDE: -110 30 0.00000
EAST_LONGITUDE: -110 26 15.00000
NORTH_LATITUDE: 48 30 0.00000
SOUTH_LATITUDE: 48 26 15.00000
PRODUCTION_DATE: 2000 10 13
RASTER_ORDER: LEFT_RIGHT/TOP_BOTTOM
BAND_ORGANIZATION: SINGLE FILE
BAND_CONTENT: BLACK&WHITE
BAND_CONTENT: UNDEFINED
BAND_CONTENT: UNDEFINED
BITS_PER_PIXEL: 8
SAMPLES_AND_LINES: 5328 7584
HORIZONTAL_DATUM: NAD83
HORIZONTAL_COORDINATE_SYSTEM: UTM
COORDINATE_ZONE: 12
HORIZONTAL_UNITS: METERS
HORIZONTAL_RESOLUTION: 1.00000
SECONDARY_HORIZONTAL_DATUM: NAD27
XY_ORIGIN: 536577.00000 5372329.00000
SECONDARY_XY_ORIGIN: 536635.77400 5372111.67300
NATION: US
NATION: "SCIENCE
STATE: MT
NW_QUAD_CORNER_XY: 536935.86900 5371996.28200
NE_QUAD_CORNER_XY: 541552.83500 5372028.34500
SE_QUAD_CORNERY_XY: 541603.89400 5365081.20000
SW_QUAD_CORNER_XY: 536981.25400 5365049.12900
SECONDARY_NW_QUAD_XY: 536937.04300 5371777.31300
SECONDARY_NE_QUAD_XY: 541554.15600 5371809.37700
SECONDARY_SE_QUAD_XY: 541605.21500 5364862.24100
SECONDARY_SW_QUAD_XY: 536982.42800 5364830.16900
RMSE_XY: 0.80000
IMAGE_SOURCE: BLACK AND WHITE FILM
SOURCE_IMAGE_ID: NAPP 9177 229
SOURCE_IMAGE_DATE: 1997 09 04
SOURCE_DEM_DATE: 1968 00 00
AGENCY: WESTERN MAPPING CENTER (WMC)
PRODUCER: UNDEFINED
PRODUCTION_SYSTEM: GIS/MAGIC
COMPRESSION: UNDEFINED
STANDARD_VERSION: 1996 12
METADATA_DATE: 2000 11 08
DATA_FILE_SIZE: 40412880
BYTE_COUNT: 5328
