FILENAME: O4811037.SES.1115058.tif
QUADRANGLE_NAME: FOURTEENMILE COULEE NW
QUADRANT: SE
WEST_LONGITUDE: -110 26 15.00000
EAST_LONGITUDE: -110 22 30.00000
NORTH_LATITUDE: 48 26 15.00000
SOUTH_LATITUDE: 48 22 30.00000
PRODUCTION_DATE: 2000 10 13
RASTER_ORDER: LEFT_RIGHT/TOP_BOTTOM
BAND_ORGANIZATION: SINGLE FILE
BAND_CONTENT: BLACK&WHITE
BAND_CONTENT: UNDEFINED
BAND_CONTENT: UNDEFINED
BITS_PER_PIXEL: 8
SAMPLES_AND_LINES: 5340 7589
HORIZONTAL_DATUM: NAD83
HORIZONTAL_COORDINATE_SYSTEM: UTM
COORDINATE_ZONE: 12
HORIZONTAL_UNITS: METERS
HORIZONTAL_RESOLUTION: 1.00000
SECONDARY_HORIZONTAL_DATUM: NAD27
XY_ORIGIN: 541245.00000 5365418.00000
SECONDARY_XY_ORIGIN: 541303.72600 5365200.94800
NATION: US
NATION: "SCIENCE
STATE: MT
NW_QUAD_CORNER_XY: 541603.89400 5365081.20000
NE_QUAD_CORNER_XY: 546226.52800 5365117.04500
SE_QUAD_CORNERY_XY: 546283.20400 5358169.98400
SW_QUAD_CORNER_XY: 541654.90200 5358134.13100
SECONDARY_NW_QUAD_XY: 541605.21500 5364862.24100
SECONDARY_NE_QUAD_XY: 546227.99600 5364898.08700
SECONDARY_SE_QUAD_XY: 546284.67200 5357951.03600
SECONDARY_SW_QUAD_XY: 541656.22300 5357915.18100
RMSE_XY: 1.20000
IMAGE_SOURCE: BLACK AND WHITE FILM
SOURCE_IMAGE_ID: NAPP 9177 184
SOURCE_IMAGE_DATE: 1997 09 04
SOURCE_DEM_DATE: 1968 00 00
AGENCY: WESTERN MAPPING CENTER (WMC)
PRODUCER: UNDEFINED
PRODUCTION_SYSTEM: GIS/MAGIC
COMPRESSION: UNDEFINED
STANDARD_VERSION: 1996 12
METADATA_DATE: 2000 11 08
DATA_FILE_SIZE: 40530600
BYTE_COUNT: 5340
