FILENAME: O4811036.NWS.1115548.tif
QUADRANGLE_NAME: EEN SCHOOL
QUADRANT: NW
WEST_LONGITUDE: -110 37 30.00000
EAST_LONGITUDE: -110 33 45.00000
NORTH_LATITUDE: 48 30 0.00000
SOUTH_LATITUDE: 48 26 15.00000
PRODUCTION_DATE: 2000 11 2
RASTER_ORDER: LEFT_RIGHT/TOP_BOTTOM
BAND_ORGANIZATION: SINGLE FILE
BAND_CONTENT: BLACK&WHITE
BAND_CONTENT: UNDEFINED
BAND_CONTENT: UNDEFINED
BITS_PER_PIXEL: 8
SAMPLES_AND_LINES: 5318 7576
HORIZONTAL_DATUM: NAD83
HORIZONTAL_COORDINATE_SYSTEM: UTM
COORDINATE_ZONE: 12
HORIZONTAL_UNITS: METERS
HORIZONTAL_RESOLUTION: 1.00000
SECONDARY_HORIZONTAL_DATUM: NAD27
XY_ORIGIN: 527342.00000 5372268.00000
SECONDARY_XY_ORIGIN: 527400.91800 5372050.57400
NATION: US
NATION: "SCIENCE
STATE: MT
NW_QUAD_CORNER_XY: 527701.92000 5371943.47300
NE_QUAD_CORNER_XY: 532318.89700 5371967.99100
SE_QUAD_CORNERY_XY: 532358.60800 5365020.83100
SW_QUAD_CORNER_XY: 527735.95800 5364996.30600
SECONDARY_NW_QUAD_XY: 527702.80100 5371724.50300
SECONDARY_NE_QUAD_XY: 532319.92400 5371749.02200
SECONDARY_SE_QUAD_XY: 532359.63600 5364801.87000
SECONDARY_SW_QUAD_XY: 527736.83900 5364777.34400
RMSE_XY: 2.80000
IMAGE_SOURCE: BLACK AND WHITE FILM
SOURCE_IMAGE_ID: NAPP 9167 135
SOURCE_IMAGE_DATE: 1996 08 26
SOURCE_DEM_DATE: 1969 00 00
AGENCY: WESTERN MAPPING CENTER (WMC)
PRODUCER: UNDEFINED
PRODUCTION_SYSTEM: GIS/MAGIC
COMPRESSION: UNDEFINED
STANDARD_VERSION: 1996 12
METADATA_DATE: 2000 11 07
DATA_FILE_SIZE: 40294486
BYTE_COUNT: 5318
