FILENAME: O4811036.SWS.1115550.tif
QUADRANGLE_NAME: EEN SCHOOL
QUADRANT: SW
WEST_LONGITUDE: -110 37 30.00000
EAST_LONGITUDE: -110 33 45.00000
NORTH_LATITUDE: 48 26 15.00000
SOUTH_LATITUDE: 48 22 30.00000
PRODUCTION_DATE: 2000 11 2
RASTER_ORDER: LEFT_RIGHT/TOP_BOTTOM
BAND_ORGANIZATION: SINGLE FILE
BAND_CONTENT: BLACK&WHITE
BAND_CONTENT: UNDEFINED
BAND_CONTENT: UNDEFINED
BITS_PER_PIXEL: 8
SAMPLES_AND_LINES: 5324 7576
HORIZONTAL_DATUM: NAD83
HORIZONTAL_COORDINATE_SYSTEM: UTM
COORDINATE_ZONE: 12
HORIZONTAL_UNITS: METERS
HORIZONTAL_RESOLUTION: 1.00000
SECONDARY_HORIZONTAL_DATUM: NAD27
XY_ORIGIN: 527376.00000 5365321.00000
SECONDARY_XY_ORIGIN: 527434.88500 5365103.85000
NATION: US
NATION: "SCIENCE
STATE: MT
NW_QUAD_CORNER_XY: 527735.95800 5364996.30600
NE_QUAD_CORNER_XY: 532358.60800 5365020.83100
SE_QUAD_CORNERY_XY: 532398.28100 5358073.74600
SW_QUAD_CORNER_XY: 527769.96400 5358049.21500
SECONDARY_NW_QUAD_XY: 527736.83900 5364777.34400
SECONDARY_NE_QUAD_XY: 532359.63600 5364801.87000
SECONDARY_SE_QUAD_XY: 532399.30800 5357854.79400
SECONDARY_SW_QUAD_XY: 527770.84400 5357830.26200
RMSE_XY: 1.20000
IMAGE_SOURCE: BLACK AND WHITE FILM
SOURCE_IMAGE_ID: NAPP 9167 137
SOURCE_IMAGE_DATE: 1996 08 26
SOURCE_DEM_DATE: 1969 00 00
AGENCY: WESTERN MAPPING CENTER (WMC)
PRODUCER: UNDEFINED
PRODUCTION_SYSTEM: GIS/MAGIC
COMPRESSION: UNDEFINED
STANDARD_VERSION: 1996 12
METADATA_DATE: 2000 11 07
DATA_FILE_SIZE: 40339948
BYTE_COUNT: 5324
