FILENAME: O4811035.NES.1115523.tif
QUADRANGLE_NAME: ROCKY COULEE
QUADRANT: NE
WEST_LONGITUDE: -110 41 15.00000
EAST_LONGITUDE: -110 37 30.00000
NORTH_LATITUDE: 48 30 0.00000
SOUTH_LATITUDE: 48 26 15.00000
PRODUCTION_DATE: 2000 11 2
RASTER_ORDER: LEFT_RIGHT/TOP_BOTTOM
BAND_ORGANIZATION: SINGLE FILE
BAND_CONTENT: BLACK&WHITE
BAND_CONTENT: UNDEFINED
BAND_CONTENT: UNDEFINED
BITS_PER_PIXEL: 8
SAMPLES_AND_LINES: 5312 7573
HORIZONTAL_DATUM: NAD83
HORIZONTAL_COORDINATE_SYSTEM: UTM
COORDINATE_ZONE: 12
HORIZONTAL_UNITS: METERS
HORIZONTAL_RESOLUTION: 1.00000
SECONDARY_HORIZONTAL_DATUM: NAD27
XY_ORIGIN: 522725.00000 5372244.00000
SECONDARY_XY_ORIGIN: 522783.98900 5372026.52500
NATION: US
NATION: "SCIENCE
STATE: MT
NW_QUAD_CORNER_XY: 523084.93900 5371922.72700
NE_QUAD_CORNER_XY: 527701.92000 5371943.47300
SE_QUAD_CORNERY_XY: 527735.95800 5364996.30600
SW_QUAD_CORNER_XY: 523113.30500 5364975.55400
SECONDARY_NW_QUAD_XY: 523085.67300 5371703.75600
SECONDARY_NE_QUAD_XY: 527702.80100 5371724.50300
SECONDARY_SE_QUAD_XY: 527736.83900 5364777.34400
SECONDARY_SW_QUAD_XY: 523114.03900 5364756.59200
RMSE_XY: 2.00000
IMAGE_SOURCE: BLACK AND WHITE FILM
SOURCE_IMAGE_ID: NAPP 9167 196
SOURCE_IMAGE_DATE: 1996 08 26
SOURCE_DEM_DATE: 1969 00 00
AGENCY: WESTERN MAPPING CENTER (WMC)
PRODUCER: UNDEFINED
PRODUCTION_SYSTEM: GIS/MAGIC
COMPRESSION: UNDEFINED
STANDARD_VERSION: 1996 12
METADATA_DATE: 2000 11 29
DATA_FILE_SIZE: 40233088
BYTE_COUNT: 5312
