FILENAME: O4811034.NWS.1115500.tif
QUADRANGLE_NAME: POVERTY COULEE NE
QUADRANT: NW
WEST_LONGITUDE: -110 52 30.00000
EAST_LONGITUDE: -110 48 45.00000
NORTH_LATITUDE: 48 30 0.00000
SOUTH_LATITUDE: 48 26 15.00000
PRODUCTION_DATE: 2000 11 1
RASTER_ORDER: LEFT_RIGHT/TOP_BOTTOM
BAND_ORGANIZATION: SINGLE FILE
BAND_CONTENT: BLACK&WHITE
BAND_CONTENT: UNDEFINED
BAND_CONTENT: UNDEFINED
BITS_PER_PIXEL: 8
SAMPLES_AND_LINES: 5296 7561
HORIZONTAL_DATUM: NAD83
HORIZONTAL_COORDINATE_SYSTEM: UTM
COORDINATE_ZONE: 12
HORIZONTAL_UNITS: METERS
HORIZONTAL_RESOLUTION: 1.00000
SECONDARY_HORIZONTAL_DATUM: NAD27
XY_ORIGIN: 508873.00000 5372193.00000
SECONDARY_XY_ORIGIN: 508932.33100 5371975.39900
NATION: US
NATION: "SCIENCE
STATE: MT
NW_QUAD_CORNER_XY: 509233.98000 5371883.12000
NE_QUAD_CORNER_XY: 513850.96900 5371892.55000
SE_QUAD_CORNERY_XY: 513867.98800 5364945.37000
SW_QUAD_CORNER_XY: 509245.32600 5364935.93800
SECONDARY_NW_QUAD_XY: 509234.27400 5371664.14800
SECONDARY_NE_QUAD_XY: 513851.40900 5371673.57800
SECONDARY_SE_QUAD_XY: 513868.42800 5364726.40700
SECONDARY_SW_QUAD_XY: 509245.62000 5364716.97400
RMSE_XY: 2.40000
IMAGE_SOURCE: BLACK AND WHITE FILM
SOURCE_IMAGE_ID: NAPP 9168 026
SOURCE_IMAGE_DATE: 1996 08 26
SOURCE_DEM_DATE: 1969 00 00
AGENCY: WESTERN MAPPING CENTER (WMC)
PRODUCER: UNDEFINED
PRODUCTION_SYSTEM: GIS/MAGIC
COMPRESSION: UNDEFINED
STANDARD_VERSION: 1996 12
METADATA_DATE: 2000 11 29
DATA_FILE_SIZE: 40048352
BYTE_COUNT: 5296
