FILENAME: O4811033.NES.1115487.tif
QUADRANGLE_NAME: POVERTY COULEE
QUADRANT: NE
WEST_LONGITUDE: -110 56 15.00000
EAST_LONGITUDE: -110 52 30.00000
NORTH_LATITUDE: 48 30 0.00000
SOUTH_LATITUDE: 48 26 15.00000
PRODUCTION_DATE: 2000 11 1
RASTER_ORDER: LEFT_RIGHT/TOP_BOTTOM
BAND_ORGANIZATION: SINGLE FILE
BAND_CONTENT: BLACK&WHITE
BAND_CONTENT: UNDEFINED
BAND_CONTENT: UNDEFINED
BITS_PER_PIXEL: 8
SAMPLES_AND_LINES: 5291 7558
HORIZONTAL_DATUM: NAD83
HORIZONTAL_COORDINATE_SYSTEM: UTM
COORDINATE_ZONE: 12
HORIZONTAL_UNITS: METERS
HORIZONTAL_RESOLUTION: 1.00000
SECONDARY_HORIZONTAL_DATUM: NAD27
XY_ORIGIN: 504256.00000 5372184.00000
SECONDARY_XY_ORIGIN: 504315.46400 5371966.36200
NATION: US
NATION: "SCIENCE
STATE: MT
NW_QUAD_CORNER_XY: 504616.99100 5371877.46200
NE_QUAD_CORNER_XY: 509233.98000 5371883.12000
SE_QUAD_CORNERY_XY: 509245.32600 5364935.93800
SW_QUAD_CORNER_XY: 504622.66400 5364930.27800
SECONDARY_NW_QUAD_XY: 504617.13700 5371658.49000
SECONDARY_NE_QUAD_XY: 509234.27400 5371664.14800
SECONDARY_SE_QUAD_XY: 509245.62000 5364716.97400
SECONDARY_SW_QUAD_XY: 504622.81000 5364711.31400
RMSE_XY: 1.00000
IMAGE_SOURCE: BLACK AND WHITE FILM
SOURCE_IMAGE_ID: NAPP 9175 009
SOURCE_IMAGE_DATE: 1997 08 30
SOURCE_IMAGE_ID: NAPP 9175 007
SOURCE_IMAGE_DATE: 1997 08 30
SOURCE_DEM_DATE: 1969 00 00
AGENCY: WESTERN MAPPING CENTER (WMC)
PRODUCER: UNDEFINED
PRODUCTION_SYSTEM: GIS/MAGIC
COMPRESSION: UNDEFINED
STANDARD_VERSION: 1996 12
METADATA_DATE: 2000 11 07
DATA_FILE_SIZE: 39994669
BYTE_COUNT: 5291
