FILENAME: O4811032.SES.1115110.tif
QUADRANGLE_NAME: KREMLIN
QUADRANT: SE
WEST_LONGITUDE: -110 3 45.00000
EAST_LONGITUDE: -110 0 0.00000
NORTH_LATITUDE: 48 33 45.00000
SOUTH_LATITUDE: 48 30 0.00000
PRODUCTION_DATE: 2000 10 12
RASTER_ORDER: LEFT_RIGHT/TOP_BOTTOM
BAND_ORGANIZATION: SINGLE FILE
BAND_CONTENT: BLACK&WHITE
BAND_CONTENT: UNDEFINED
BAND_CONTENT: UNDEFINED
BITS_PER_PIXEL: 8
SAMPLES_AND_LINES: 5362 7610
HORIZONTAL_DATUM: NAD83
HORIZONTAL_COORDINATE_SYSTEM: UTM
COORDINATE_ZONE: 12
HORIZONTAL_UNITS: METERS
HORIZONTAL_RESOLUTION: 1.00000
SECONDARY_HORIZONTAL_DATUM: NAD27
XY_ORIGIN: 568811.00000 5379606.00000
SECONDARY_XY_ORIGIN: 568869.66100 5379388.30600
NATION: US
NATION: "SCIENCE
STATE: MT
NW_QUAD_CORNER_XY: 569169.30300 5379247.09000
NE_QUAD_CORNER_XY: 573780.53400 5379305.54500
SE_QUAD_CORNERY_XY: 573871.39800 5372358.41300
SW_QUAD_CORNER_XY: 569254.48700 5372299.94300
SECONDARY_NW_QUAD_XY: 569171.50500 5379028.12300
SECONDARY_NE_QUAD_XY: 573782.88200 5379086.58000
SECONDARY_SE_QUAD_XY: 573873.74700 5372139.45600
SECONDARY_SW_QUAD_XY: 569256.68900 5372080.98400
RMSE_XY: 2.00000
IMAGE_SOURCE: BLACK AND WHITE FILM
SOURCE_IMAGE_ID: NAPP 9178 220
SOURCE_IMAGE_DATE: 1997 09 04
SOURCE_DEM_DATE: 1993 00 00
AGENCY: WESTERN MAPPING CENTER (WMC)
PRODUCER: UNDEFINED
PRODUCTION_SYSTEM: GIS/MAGIC
COMPRESSION: UNDEFINED
STANDARD_VERSION: 1996 12
METADATA_DATE: 2000 11 08
DATA_FILE_SIZE: 40810182
BYTE_COUNT: 5362
