FILENAME: O4811031.NWS.1115089.tif
QUADRANGLE_NAME: SAGE LAKE
QUADRANT: NW
WEST_LONGITUDE: -110 15 0.00000
EAST_LONGITUDE: -110 11 15.00000
NORTH_LATITUDE: 48 37 30.00000
SOUTH_LATITUDE: 48 33 45.00000
PRODUCTION_DATE: 2000 10 13
RASTER_ORDER: LEFT_RIGHT/TOP_BOTTOM
BAND_ORGANIZATION: SINGLE FILE
BAND_CONTENT: BLACK&WHITE
BAND_CONTENT: UNDEFINED
BAND_CONTENT: UNDEFINED
BITS_PER_PIXEL: 8
SAMPLES_AND_LINES: 5339 7599
HORIZONTAL_DATUM: NAD83
HORIZONTAL_COORDINATE_SYSTEM: UTM
COORDINATE_ZONE: 12
HORIZONTAL_UNITS: METERS
HORIZONTAL_RESOLUTION: 1.00000
SECONDARY_HORIZONTAL_DATUM: NAD27
XY_ORIGIN: 554909.00000 5386389.00000
SECONDARY_XY_ORIGIN: 554967.37500 5386171.12800
NATION: US
NATION: "SCIENCE
STATE: MT
NW_QUAD_CORNER_XY: 555267.33900 5386041.61800
NE_QUAD_CORNER_XY: 559872.91400 5386088.74500
SE_QUAD_CORNERY_XY: 559946.81100 5379141.49500
SW_QUAD_CORNER_XY: 555335.55100 5379094.35500
SECONDARY_NW_QUAD_XY: 555269.10100 5385822.63900
SECONDARY_NE_QUAD_XY: 559874.82200 5385869.76800
SECONDARY_SE_QUAD_XY: 559948.71900 5378922.52500
SECONDARY_SW_QUAD_XY: 555337.31300 5378875.38400
RMSE_XY: 1.70000
IMAGE_SOURCE: BLACK AND WHITE FILM
SOURCE_IMAGE_ID: NAPP 9177 024
SOURCE_IMAGE_DATE: 1997 09 04
SOURCE_DEM_DATE: 1993 00 00
AGENCY: WESTERN MAPPING CENTER (WMC)
PRODUCER: UNDEFINED
PRODUCTION_SYSTEM: GIS/MAGIC
COMPRESSION: UNDEFINED
STANDARD_VERSION: 1996 12
METADATA_DATE: 2000 11 29
DATA_FILE_SIZE: 40576400
BYTE_COUNT: 5339
