FILENAME: O4811031.SWS.1115091.tif
QUADRANGLE_NAME: SAGE LAKE
QUADRANT: SW
WEST_LONGITUDE: -110 15 0.00000
EAST_LONGITUDE: -110 11 15.00000
NORTH_LATITUDE: 48 33 45.00000
SOUTH_LATITUDE: 48 30 0.00000
PRODUCTION_DATE: 2000 10 13
RASTER_ORDER: LEFT_RIGHT/TOP_BOTTOM
BAND_ORGANIZATION: SINGLE FILE
BAND_CONTENT: BLACK&WHITE
BAND_CONTENT: UNDEFINED
BAND_CONTENT: UNDEFINED
BITS_PER_PIXEL: 8
SAMPLES_AND_LINES: 5345 7599
HORIZONTAL_DATUM: NAD83
HORIZONTAL_COORDINATE_SYSTEM: UTM
COORDINATE_ZONE: 12
HORIZONTAL_UNITS: METERS
HORIZONTAL_RESOLUTION: 1.00000
SECONDARY_HORIZONTAL_DATUM: NAD27
XY_ORIGIN: 554977.00000 5379442.00000
SECONDARY_XY_ORIGIN: 555035.48300 5379224.40700
NATION: US
NATION: "SCIENCE
STATE: MT
NW_QUAD_CORNER_XY: 555335.55100 5379094.35500
NE_QUAD_CORNER_XY: 559946.81100 5379141.49500
SE_QUAD_CORNERY_XY: 560020.63600 5372194.32000
SW_QUAD_CORNER_XY: 555403.69700 5372147.16700
SECONDARY_NW_QUAD_XY: 555337.31300 5378875.38400
SECONDARY_NE_QUAD_XY: 559948.71900 5378922.52500
SECONDARY_SE_QUAD_XY: 560022.54400 5371975.35700
SECONDARY_SW_QUAD_XY: 555405.45800 5371928.20300
RMSE_XY: 2.30000
IMAGE_SOURCE: BLACK AND WHITE FILM
SOURCE_IMAGE_ID: NAPP 9177 026
SOURCE_IMAGE_DATE: 1997 09 04
SOURCE_DEM_DATE: 1993 00 00
AGENCY: WESTERN MAPPING CENTER (WMC)
PRODUCER: UNDEFINED
PRODUCTION_SYSTEM: GIS/MAGIC
COMPRESSION: UNDEFINED
STANDARD_VERSION: 1996 12
METADATA_DATE: 2000 11 29
DATA_FILE_SIZE: 40622000
BYTE_COUNT: 5345
