FILENAME: O4811030.SWS.1115083.tif
QUADRANGLE_NAME: GILDFORD
QUADRANT: SW
WEST_LONGITUDE: -110 22 30.00000
EAST_LONGITUDE: -110 18 45.00000
NORTH_LATITUDE: 48 33 45.00000
SOUTH_LATITUDE: 48 30 0.00000
PRODUCTION_DATE: 2000 10 13
RASTER_ORDER: LEFT_RIGHT/TOP_BOTTOM
BAND_ORGANIZATION: SINGLE FILE
BAND_CONTENT: BLACK&WHITE
BAND_CONTENT: UNDEFINED
BAND_CONTENT: UNDEFINED
BITS_PER_PIXEL: 8
SAMPLES_AND_LINES: 5334 7591
HORIZONTAL_DATUM: NAD83
HORIZONTAL_COORDINATE_SYSTEM: UTM
COORDINATE_ZONE: 12
HORIZONTAL_UNITS: METERS
HORIZONTAL_RESOLUTION: 1.00000
SECONDARY_HORIZONTAL_DATUM: NAD27
XY_ORIGIN: 545754.00000 5379351.00000
SECONDARY_XY_ORIGIN: 545812.62500 5379133.41000
NATION: US
NATION: "SCIENCE
STATE: MT
NW_QUAD_CORNER_XY: 546113.00900 5379011.39000
NE_QUAD_CORNER_XY: 550724.28400 5379050.98700
SE_QUAD_CORNERY_XY: 550786.75000 5372103.78700
SW_QUAD_CORNER_XY: 546169.79600 5372064.18000
SECONDARY_NW_QUAD_XY: 546114.47700 5378792.41600
SECONDARY_NE_QUAD_XY: 550725.89800 5378832.01400
SECONDARY_SE_QUAD_XY: 550788.36500 5371884.82200
SECONDARY_SW_QUAD_XY: 546171.26400 5371845.21300
RMSE_XY: 2.30000
IMAGE_SOURCE: BLACK AND WHITE FILM
SOURCE_IMAGE_ID: NAPP 9177 126
SOURCE_IMAGE_DATE: 1997 09 04
SOURCE_DEM_DATE: 1993 00 00
AGENCY: WESTERN MAPPING CENTER (WMC)
PRODUCER: UNDEFINED
PRODUCTION_SYSTEM: GIS/MAGIC
COMPRESSION: UNDEFINED
STANDARD_VERSION: 1996 12
METADATA_DATE: 2000 11 08
DATA_FILE_SIZE: 40495728
BYTE_COUNT: 5334
