FILENAME: O4811029.NWS.1115053.tif
QUADRANGLE_NAME: HINGHAM
QUADRANT: NW
WEST_LONGITUDE: -110 30 0.00000
EAST_LONGITUDE: -110 26 15.00000
NORTH_LATITUDE: 48 37 30.00000
SOUTH_LATITUDE: 48 33 45.00000
PRODUCTION_DATE: 2000 10 13
RASTER_ORDER: LEFT_RIGHT/TOP_BOTTOM
BAND_ORGANIZATION: SINGLE FILE
BAND_CONTENT: BLACK&WHITE
BAND_CONTENT: UNDEFINED
BAND_CONTENT: UNDEFINED
BITS_PER_PIXEL: 8
SAMPLES_AND_LINES: 5317 7583
HORIZONTAL_DATUM: NAD83
HORIZONTAL_COORDINATE_SYSTEM: UTM
COORDINATE_ZONE: 12
HORIZONTAL_UNITS: METERS
HORIZONTAL_RESOLUTION: 1.00000
SECONDARY_HORIZONTAL_DATUM: NAD27
XY_ORIGIN: 536486.00000 5386223.00000
SECONDARY_XY_ORIGIN: 536544.76400 5386005.16400
NATION: US
NATION: "SCIENCE
STATE: MT
NW_QUAD_CORNER_XY: 536844.96600 5385890.81300
NE_QUAD_CORNER_XY: 541450.56900 5385922.85900
SE_QUAD_CORNERY_XY: 541501.72700 5378975.56400
SW_QUAD_CORNER_XY: 536890.43900 5378943.51000
SECONDARY_NW_QUAD_XY: 536846.14000 5385671.83000
SECONDARY_NE_QUAD_XY: 541451.89000 5385703.87700
SECONDARY_SE_QUAD_XY: 541503.04800 5378756.58900
SECONDARY_SW_QUAD_XY: 536891.61400 5378724.53400
RMSE_XY: 4.30000
IMAGE_SOURCE: BLACK AND WHITE FILM
SOURCE_IMAGE_ID: NAPP 9177 225
SOURCE_IMAGE_DATE: 1997 09 04
SOURCE_DEM_DATE: 1993 00 00
AGENCY: WESTERN MAPPING CENTER (WMC)
PRODUCER: UNDEFINED
PRODUCTION_SYSTEM: GIS/MAGIC
COMPRESSION: UNDEFINED
STANDARD_VERSION: 1996 12
METADATA_DATE: 2000 11 08
DATA_FILE_SIZE: 40324128
BYTE_COUNT: 5317
