FILENAME: O4811029.SES.1115054.tif
QUADRANGLE_NAME: HINGHAM
QUADRANT: SE
WEST_LONGITUDE: -110 26 15.00000
EAST_LONGITUDE: -110 22 30.00000
NORTH_LATITUDE: 48 33 45.00000
SOUTH_LATITUDE: 48 30 0.00000
PRODUCTION_DATE: 2000 10 16
RASTER_ORDER: LEFT_RIGHT/TOP_BOTTOM
BAND_ORGANIZATION: SINGLE FILE
BAND_CONTENT: BLACK&WHITE
BAND_CONTENT: UNDEFINED
BAND_CONTENT: UNDEFINED
BITS_PER_PIXEL: 8
SAMPLES_AND_LINES: 5328 7588
HORIZONTAL_DATUM: NAD83
HORIZONTAL_COORDINATE_SYSTEM: UTM
COORDINATE_ZONE: 12
HORIZONTAL_UNITS: METERS
HORIZONTAL_RESOLUTION: 1.00000
SECONDARY_HORIZONTAL_DATUM: NAD27
XY_ORIGIN: 541143.00000 5379312.00000
SECONDARY_XY_ORIGIN: 541201.69600 5379094.41400
NATION: US
NATION: "SCIENCE
STATE: MT
NW_QUAD_CORNER_XY: 541501.72700 5378975.56400
NE_QUAD_CORNER_XY: 546113.00900 5379011.39000
SE_QUAD_CORNERY_XY: 546169.79600 5372064.18000
SW_QUAD_CORNER_XY: 541552.83500 5372028.34500
SECONDARY_NW_QUAD_XY: 541503.04800 5378756.58900
SECONDARY_NE_QUAD_XY: 546114.47700 5378792.41600
SECONDARY_SE_QUAD_XY: 546171.26400 5371845.21300
SECONDARY_SW_QUAD_XY: 541554.15600 5371809.37700
RMSE_XY: 1.10000
IMAGE_SOURCE: BLACK AND WHITE FILM
SOURCE_IMAGE_ID: NAPP 9177 188
SOURCE_IMAGE_DATE: 1997 09 04
SOURCE_DEM_DATE: 1993 00 00
AGENCY: WESTERN MAPPING CENTER (WMC)
PRODUCER: UNDEFINED
PRODUCTION_SYSTEM: GIS/MAGIC
COMPRESSION: UNDEFINED
STANDARD_VERSION: 1996 12
METADATA_DATE: 2000 11 08
DATA_FILE_SIZE: 40434192
BYTE_COUNT: 5328
