FILENAME: O4811029.SWS.1115055.tif
QUADRANGLE_NAME: HINGHAM
QUADRANT: SW
WEST_LONGITUDE: -110 30 0.00000
EAST_LONGITUDE: -110 26 15.00000
NORTH_LATITUDE: 48 33 45.00000
SOUTH_LATITUDE: 48 30 0.00000
PRODUCTION_DATE: 2000 10 13
RASTER_ORDER: LEFT_RIGHT/TOP_BOTTOM
BAND_ORGANIZATION: SINGLE FILE
BAND_CONTENT: BLACK&WHITE
BAND_CONTENT: UNDEFINED
BAND_CONTENT: UNDEFINED
BITS_PER_PIXEL: 8
SAMPLES_AND_LINES: 5323 7584
HORIZONTAL_DATUM: NAD83
HORIZONTAL_COORDINATE_SYSTEM: UTM
COORDINATE_ZONE: 12
HORIZONTAL_UNITS: METERS
HORIZONTAL_RESOLUTION: 1.00000
SECONDARY_HORIZONTAL_DATUM: NAD27
XY_ORIGIN: 536531.00000 5379276.00000
SECONDARY_XY_ORIGIN: 536589.76700 5379058.41800
NATION: US
NATION: "SCIENCE
STATE: MT
NW_QUAD_CORNER_XY: 536890.43900 5378943.51000
NE_QUAD_CORNER_XY: 541501.72700 5378975.56400
SE_QUAD_CORNERY_XY: 541552.83500 5372028.34500
SW_QUAD_CORNER_XY: 536935.86900 5371996.28200
SECONDARY_NW_QUAD_XY: 536891.61400 5378724.53400
SECONDARY_NE_QUAD_XY: 541503.04800 5378756.58900
SECONDARY_SE_QUAD_XY: 541554.15600 5371809.37700
SECONDARY_SW_QUAD_XY: 536937.04300 5371777.31300
RMSE_XY: 1.10000
IMAGE_SOURCE: BLACK AND WHITE FILM
SOURCE_IMAGE_ID: NAPP 9177 227
SOURCE_IMAGE_DATE: 1997 09 04
SOURCE_DEM_DATE: 1993 00 00
AGENCY: WESTERN MAPPING CENTER (WMC)
PRODUCER: UNDEFINED
PRODUCTION_SYSTEM: GIS/MAGIC
COMPRESSION: UNDEFINED
STANDARD_VERSION: 1996 12
METADATA_DATE: 2000 11 08
DATA_FILE_SIZE: 40374955
BYTE_COUNT: 5323
