FILENAME: O4811028.SES.1115545.tif
QUADRANGLE_NAME: RUDYARD
QUADRANT: SE
WEST_LONGITUDE: -110 33 45.00000
EAST_LONGITUDE: -110 30 0.00000
NORTH_LATITUDE: 48 33 45.00000
SOUTH_LATITUDE: 48 30 0.00000
PRODUCTION_DATE: 2000 11 2
RASTER_ORDER: LEFT_RIGHT/TOP_BOTTOM
BAND_ORGANIZATION: SINGLE FILE
BAND_CONTENT: BLACK&WHITE
BAND_CONTENT: UNDEFINED
BAND_CONTENT: UNDEFINED
BITS_PER_PIXEL: 8
SAMPLES_AND_LINES: 5317 7580
HORIZONTAL_DATUM: NAD83
HORIZONTAL_COORDINATE_SYSTEM: UTM
COORDINATE_ZONE: 12
HORIZONTAL_UNITS: METERS
HORIZONTAL_RESOLUTION: 1.00000
SECONDARY_HORIZONTAL_DATUM: NAD27
XY_ORIGIN: 531920.00000 5379244.00000
SECONDARY_XY_ORIGIN: 531978.85900 5379026.37900
NATION: US
NATION: "SCIENCE
STATE: MT
NW_QUAD_CORNER_XY: 532279.14600 5378915.22700
NE_QUAD_CORNER_XY: 536890.43900 5378943.51000
SE_QUAD_CORNERY_XY: 536935.86900 5371996.28200
SW_QUAD_CORNER_XY: 532318.89700 5371967.99100
SECONDARY_NW_QUAD_XY: 532280.17400 5378696.25000
SECONDARY_NE_QUAD_XY: 536891.61400 5378724.53400
SECONDARY_SE_QUAD_XY: 536937.04300 5371777.31300
SECONDARY_SW_QUAD_XY: 532319.92400 5371749.02200
RMSE_XY: 2.00000
IMAGE_SOURCE: BLACK AND WHITE FILM
SOURCE_IMAGE_ID: NAPP 9167 100
SOURCE_IMAGE_DATE: 1996 08 26
SOURCE_DEM_DATE: 1993 00 00
AGENCY: WESTERN MAPPING CENTER (WMC)
PRODUCER: UNDEFINED
PRODUCTION_SYSTEM: GIS/MAGIC
COMPRESSION: UNDEFINED
STANDARD_VERSION: 1996 12
METADATA_DATE: 2000 11 07
DATA_FILE_SIZE: 40308177
BYTE_COUNT: 5317
