FILENAME: O4811028.SWS.1115546.tif
QUADRANGLE_NAME: RUDYARD
QUADRANT: SW
WEST_LONGITUDE: -110 37 30.00000
EAST_LONGITUDE: -110 33 45.00000
NORTH_LATITUDE: 48 33 45.00000
SOUTH_LATITUDE: 48 30 0.00000
PRODUCTION_DATE: 2000 11 2
RASTER_ORDER: LEFT_RIGHT/TOP_BOTTOM
BAND_ORGANIZATION: SINGLE FILE
BAND_CONTENT: BLACK&WHITE
BAND_CONTENT: UNDEFINED
BAND_CONTENT: UNDEFINED
BITS_PER_PIXEL: 8
SAMPLES_AND_LINES: 5312 7577
HORIZONTAL_DATUM: NAD83
HORIZONTAL_COORDINATE_SYSTEM: UTM
COORDINATE_ZONE: 12
HORIZONTAL_UNITS: METERS
HORIZONTAL_RESOLUTION: 1.00000
SECONDARY_HORIZONTAL_DATUM: NAD27
XY_ORIGIN: 527308.00000 5379216.00000
SECONDARY_XY_ORIGIN: 527366.94700 5378998.34400
NATION: US
NATION: "SCIENCE
STATE: MT
NW_QUAD_CORNER_XY: 527667.84800 5378890.71500
NE_QUAD_CORNER_XY: 532279.14600 5378915.22700
SE_QUAD_CORNERY_XY: 532318.89700 5371967.99100
SW_QUAD_CORNER_XY: 527701.92000 5371943.47300
SECONDARY_NW_QUAD_XY: 527668.72900 5378671.73700
SECONDARY_NE_QUAD_XY: 532280.17400 5378696.25000
SECONDARY_SE_QUAD_XY: 532319.92400 5371749.02200
SECONDARY_SW_QUAD_XY: 527702.80100 5371724.50300
RMSE_XY: 3.30000
IMAGE_SOURCE: BLACK AND WHITE FILM
SOURCE_IMAGE_ID: NAPP 9167 133
SOURCE_IMAGE_DATE: 1996 08 26
SOURCE_DEM_DATE: 1993 00 00
AGENCY: WESTERN MAPPING CENTER (WMC)
PRODUCER: UNDEFINED
PRODUCTION_SYSTEM: GIS/MAGIC
COMPRESSION: UNDEFINED
STANDARD_VERSION: 1996 12
METADATA_DATE: 2000 11 07
DATA_FILE_SIZE: 40254336
BYTE_COUNT: 5312
