FILENAME: O4811027.SES.1115521.tif
QUADRANGLE_NAME: INVERNESS
QUADRANT: SE
WEST_LONGITUDE: -110 41 15.00000
EAST_LONGITUDE: -110 37 30.00000
NORTH_LATITUDE: 48 33 45.00000
SOUTH_LATITUDE: 48 30 0.00000
PRODUCTION_DATE: 2000 11 2
RASTER_ORDER: LEFT_RIGHT/TOP_BOTTOM
BAND_ORGANIZATION: SINGLE FILE
BAND_CONTENT: BLACK&WHITE
BAND_CONTENT: UNDEFINED
BAND_CONTENT: UNDEFINED
BITS_PER_PIXEL: 8
SAMPLES_AND_LINES: 5306 7572
HORIZONTAL_DATUM: NAD83
HORIZONTAL_COORDINATE_SYSTEM: UTM
COORDINATE_ZONE: 12
HORIZONTAL_UNITS: METERS
HORIZONTAL_RESOLUTION: 1.00000
SECONDARY_HORIZONTAL_DATUM: NAD27
XY_ORIGIN: 522697.00000 5379191.00000
SECONDARY_XY_ORIGIN: 522756.03500 5378973.31000
NATION: US
NATION: "SCIENCE
STATE: MT
NW_QUAD_CORNER_XY: 523056.54600 5378869.97400
NE_QUAD_CORNER_XY: 527667.84800 5378890.71500
SE_QUAD_CORNERY_XY: 527701.92000 5371943.47300
SW_QUAD_CORNER_XY: 523084.93900 5371922.72700
SECONDARY_NW_QUAD_XY: 523057.28000 5378650.99600
SECONDARY_NE_QUAD_XY: 527668.72900 5378671.73700
SECONDARY_SE_QUAD_XY: 527702.80100 5371724.50300
SECONDARY_SW_QUAD_XY: 523085.67300 5371703.75600
RMSE_XY: 2.90000
IMAGE_SOURCE: BLACK AND WHITE FILM
SOURCE_IMAGE_ID: NAPP 9167 198
SOURCE_IMAGE_DATE: 1996 08 26
SOURCE_DEM_DATE: 1993 00 00
AGENCY: WESTERN MAPPING CENTER (WMC)
PRODUCER: UNDEFINED
PRODUCTION_SYSTEM: GIS/MAGIC
COMPRESSION: UNDEFINED
STANDARD_VERSION: 1996 12
METADATA_DATE: 2000 11 29
DATA_FILE_SIZE: 40182338
BYTE_COUNT: 5306
