FILENAME: O4811027.SWS.1115522.tif
QUADRANGLE_NAME: INVERNESS
QUADRANT: SW
WEST_LONGITUDE: -110 45 0.00000
EAST_LONGITUDE: -110 41 15.00000
NORTH_LATITUDE: 48 33 45.00000
SOUTH_LATITUDE: 48 30 0.00000
PRODUCTION_DATE: 2000 11 2
RASTER_ORDER: LEFT_RIGHT/TOP_BOTTOM
BAND_ORGANIZATION: SINGLE FILE
BAND_CONTENT: BLACK&WHITE
BAND_CONTENT: UNDEFINED
BAND_CONTENT: UNDEFINED
BITS_PER_PIXEL: 8
SAMPLES_AND_LINES: 5301 7568
HORIZONTAL_DATUM: NAD83
HORIZONTAL_COORDINATE_SYSTEM: UTM
COORDINATE_ZONE: 12
HORIZONTAL_UNITS: METERS
HORIZONTAL_RESOLUTION: 1.00000
SECONDARY_HORIZONTAL_DATUM: NAD27
XY_ORIGIN: 518085.00000 5379170.00000
SECONDARY_XY_ORIGIN: 518144.12400 5378952.27500
NATION: US
NATION: "SCIENCE
STATE: MT
NW_QUAD_CORNER_XY: 518445.24100 5378853.00500
NE_QUAD_CORNER_XY: 523056.54600 5378869.97400
SE_QUAD_CORNERY_XY: 523084.93900 5371922.72700
SW_QUAD_CORNER_XY: 518467.95500 5371905.75200
SECONDARY_NW_QUAD_XY: 518445.82800 5378634.02600
SECONDARY_NE_QUAD_XY: 523057.28000 5378650.99600
SECONDARY_SE_QUAD_XY: 523085.67300 5371703.75600
SECONDARY_SW_QUAD_XY: 518468.54300 5371686.78100
RMSE_XY: 1.60000
IMAGE_SOURCE: BLACK AND WHITE FILM
SOURCE_IMAGE_ID: NAPP 9167 230
SOURCE_IMAGE_DATE: 1996 08 26
SOURCE_DEM_DATE: 1993 00 00
AGENCY: WESTERN MAPPING CENTER (WMC)
PRODUCER: UNDEFINED
PRODUCTION_SYSTEM: GIS/MAGIC
COMPRESSION: UNDEFINED
STANDARD_VERSION: 1996 12
METADATA_DATE: 2000 11 29
DATA_FILE_SIZE: 40123269
BYTE_COUNT: 5301
