FILENAME: O4811026.NES.1115511.tif
QUADRANGLE_NAME: JOPLIN
QUADRANT: NE
WEST_LONGITUDE: -110 48 45.00000
EAST_LONGITUDE: -110 45 0.00000
NORTH_LATITUDE: 48 37 30.00000
SOUTH_LATITUDE: 48 33 45.00000
PRODUCTION_DATE: 2000 11 1
RASTER_ORDER: LEFT_RIGHT/TOP_BOTTOM
BAND_ORGANIZATION: SINGLE FILE
BAND_CONTENT: BLACK&WHITE
BAND_CONTENT: UNDEFINED
BAND_CONTENT: UNDEFINED
BITS_PER_PIXEL: 8
SAMPLES_AND_LINES: 5290 7565
HORIZONTAL_DATUM: NAD83
HORIZONTAL_COORDINATE_SYSTEM: UTM
COORDINATE_ZONE: 12
HORIZONTAL_UNITS: METERS
HORIZONTAL_RESOLUTION: 1.00000
SECONDARY_HORIZONTAL_DATUM: NAD27
XY_ORIGIN: 513457.00000 5386101.00000
SECONDARY_XY_ORIGIN: 513516.27600 5385883.03500
NATION: US
NATION: "SCIENCE
STATE: MT
NW_QUAD_CORNER_XY: 513816.88100 5385787.13800
NE_QUAD_CORNER_XY: 518422.50500 5385800.33300
SE_QUAD_CORNERY_XY: 518445.24100 5378853.00500
SW_QUAD_CORNER_XY: 513833.93300 5378839.80600
SECONDARY_NW_QUAD_XY: 513817.32100 5385568.15100
SECONDARY_NE_QUAD_XY: 518423.09200 5385581.34700
SECONDARY_SE_QUAD_XY: 518445.82800 5378634.02600
SECONDARY_SW_QUAD_XY: 513834.37400 5378620.82700
RMSE_XY: 1.90000
IMAGE_SOURCE: BLACK AND WHITE FILM
SOURCE_IMAGE_ID: NAPP 9167 307
SOURCE_IMAGE_DATE: 1996 08 26
SOURCE_DEM_DATE: 1993 00 00
AGENCY: WESTERN MAPPING CENTER (WMC)
PRODUCER: UNDEFINED
PRODUCTION_SYSTEM: GIS/MAGIC
COMPRESSION: UNDEFINED
STANDARD_VERSION: 1996 12
METADATA_DATE: 2000 11 07
DATA_FILE_SIZE: 40024140
BYTE_COUNT: 5290
