FILENAME: O4811026.NWS.1115512.tif
QUADRANGLE_NAME: JOPLIN
QUADRANT: NW
WEST_LONGITUDE: -110 52 30.00000
EAST_LONGITUDE: -110 48 45.00000
NORTH_LATITUDE: 48 37 30.00000
SOUTH_LATITUDE: 48 33 45.00000
PRODUCTION_DATE: 2000 11 1
RASTER_ORDER: LEFT_RIGHT/TOP_BOTTOM
BAND_ORGANIZATION: SINGLE FILE
BAND_CONTENT: BLACK&WHITE
BAND_CONTENT: UNDEFINED
BAND_CONTENT: UNDEFINED
BITS_PER_PIXEL: 8
SAMPLES_AND_LINES: 5284 7561
HORIZONTAL_DATUM: NAD83
HORIZONTAL_COORDINATE_SYSTEM: UTM
COORDINATE_ZONE: 12
HORIZONTAL_UNITS: METERS
HORIZONTAL_RESOLUTION: 1.00000
SECONDARY_HORIZONTAL_DATUM: NAD27
XY_ORIGIN: 508851.00000 5386088.00000
SECONDARY_XY_ORIGIN: 508910.34900 5385869.99000
NATION: US
NATION: "SCIENCE
STATE: MT
NW_QUAD_CORNER_XY: 509211.25500 5385777.71300
NE_QUAD_CORNER_XY: 513816.88100 5385787.13800
SE_QUAD_CORNERY_XY: 513833.93300 5378839.80600
SW_QUAD_CORNER_XY: 509222.62300 5378830.37900
SECONDARY_NW_QUAD_XY: 509211.54900 5385558.72600
SECONDARY_NE_QUAD_XY: 513817.32100 5385568.15100
SECONDARY_SE_QUAD_XY: 513834.37400 5378620.82700
SECONDARY_SW_QUAD_XY: 509222.91700 5378611.39900
RMSE_XY: 3.40000
IMAGE_SOURCE: BLACK AND WHITE FILM
SOURCE_IMAGE_ID: NAPP 9168 022
SOURCE_IMAGE_DATE: 1996 08 26
SOURCE_DEM_DATE: 1993 00 00
AGENCY: WESTERN MAPPING CENTER (WMC)
PRODUCER: UNDEFINED
PRODUCTION_SYSTEM: GIS/MAGIC
COMPRESSION: UNDEFINED
STANDARD_VERSION: 1996 12
METADATA_DATE: 2000 11 07
DATA_FILE_SIZE: 39957608
BYTE_COUNT: 5284
